BEGIN:VCALENDAR
VERSION:2.0
PRODID:-//NADI Kampung Lay Out - ECPv6.15.13.1//NONSGML v1.0//EN
CALSCALE:GREGORIAN
METHOD:PUBLISH
X-WR-CALNAME:NADI Kampung Lay Out
X-ORIGINAL-URL:https://kglayout.nadi.my
X-WR-CALDESC:Events for NADI Kampung Lay Out
REFRESH-INTERVAL;VALUE=DURATION:PT1H
X-Robots-Tag:noindex
X-PUBLISHED-TTL:PT1H
BEGIN:VTIMEZONE
TZID:UTC
BEGIN:STANDARD
TZOFFSETFROM:+0000
TZOFFSETTO:+0000
TZNAME:UTC
DTSTART:20240101T000000
END:STANDARD
END:VTIMEZONE
BEGIN:VEVENT
DTSTART;TZID=UTC:20251016T100000
DTEND;TZID=UTC:20251016T113000
DTSTAMP:20260420T055802
CREATED:20251015T020632Z
LAST-MODIFIED:20251015T020632Z
UID:5824-1760608800-1760614200@kglayout.nadi.my
SUMMARY:WEBINAR KEUSAHAWANAN COHORT 5 - PEMASARAN & OPERASI PERNIAGAAN
DESCRIPTION:
URL:https://kglayout.nadi.my/event/webinar-keusahawanan-cohort-5-pemasaran-operasi-perniagaan/
END:VEVENT
BEGIN:VEVENT
DTSTART;TZID=UTC:20251016T153000
DTEND;TZID=UTC:20251016T163000
DTSTAMP:20260420T055802
CREATED:20251015T020308Z
LAST-MODIFIED:20251015T020400Z
UID:5822-1760628600-1760632200@kglayout.nadi.my
SUMMARY:DILEA - OPEN TUITION SAINS
DESCRIPTION:
URL:https://kglayout.nadi.my/event/dilea-open-tuition-sains/
END:VEVENT
BEGIN:VEVENT
DTSTART;TZID=UTC:20251018T100000
DTEND;TZID=UTC:20251018T110000
DTSTAMP:20260420T055802
CREATED:20251015T022456Z
LAST-MODIFIED:20251015T022516Z
UID:5826-1760781600-1760785200@kglayout.nadi.my
SUMMARY:BENGKEL TINY TECH SUMO ROBOT - SEK RENDAH
DESCRIPTION:
URL:https://kglayout.nadi.my/event/bengkel-tiny-tech-sumo-robot-sek-rendah/
END:VEVENT
BEGIN:VEVENT
DTSTART;TZID=UTC:20251018T113000
DTEND;TZID=UTC:20251018T123000
DTSTAMP:20260420T055802
CREATED:20251015T022633Z
LAST-MODIFIED:20251015T022703Z
UID:5829-1760787000-1760790600@kglayout.nadi.my
SUMMARY:BENGKEL TINY TECH IoT INOVASI - SEK MENENGAH
DESCRIPTION:
URL:https://kglayout.nadi.my/event/bengkel-tiny-tech-iot-inovasi-sek-menengah/
END:VEVENT
BEGIN:VEVENT
DTSTART;TZID=UTC:20251023T100000
DTEND;TZID=UTC:20251023T110000
DTSTAMP:20260420T055802
CREATED:20251022T065539Z
LAST-MODIFIED:20251022T065850Z
UID:5985-1761213600-1761217200@kglayout.nadi.my
SUMMARY:WEBINAR PEMASARAN DIGITAL eKELAS
DESCRIPTION:
URL:https://kglayout.nadi.my/event/open-tuition-bahasa-melayu/
END:VEVENT
BEGIN:VEVENT
DTSTART;TZID=UTC:20251023T153000
DTEND;TZID=UTC:20251023T163000
DTSTAMP:20260420T055802
CREATED:20251022T070012Z
LAST-MODIFIED:20251022T070012Z
UID:5989-1761233400-1761237000@kglayout.nadi.my
SUMMARY:OPEN TUITION BAHASA MELAYU
DESCRIPTION:
URL:https://kglayout.nadi.my/event/open-tuition-bahasa-melayu-2/
END:VEVENT
BEGIN:VEVENT
DTSTART;TZID=UTC:20251024T150000
DTEND;TZID=UTC:20251024T163000
DTSTAMP:20260420T055802
CREATED:20251022T070158Z
LAST-MODIFIED:20251022T070158Z
UID:5991-1761318000-1761323400@kglayout.nadi.my
SUMMARY:WEBINAR NADI X CYBERSECURITY - ANCAMAN SIBER DI TEMPAT AWAM
DESCRIPTION:
URL:https://kglayout.nadi.my/event/webinar-nadi-x-cybersecurity-ancaman-siber-di-tempat-awam/
END:VEVENT
BEGIN:VEVENT
DTSTART;TZID=UTC:20251028T093000
DTEND;TZID=UTC:20251028T230000
DTSTAMP:20260420T055802
CREATED:20251028T090642Z
LAST-MODIFIED:20251028T090642Z
UID:6130-1761643800-1761692400@kglayout.nadi.my
SUMMARY:MAHIR - KELAS MAHIR MASAK
DESCRIPTION:
URL:https://kglayout.nadi.my/event/mahir-kelas-mahir-masak/
END:VEVENT
BEGIN:VEVENT
DTSTART;TZID=UTC:20251028T150000
DTEND;TZID=UTC:20251028T163000
DTSTAMP:20260420T055802
CREATED:20251028T091001Z
LAST-MODIFIED:20251028T091001Z
UID:6133-1761663600-1761669000@kglayout.nadi.my
SUMMARY:MAHIR - KELAS MAHIR JAHIT
DESCRIPTION:
URL:https://kglayout.nadi.my/event/mahir-kelas-mahir-jahit/
END:VEVENT
BEGIN:VEVENT
DTSTART;TZID=UTC:20251029T110000
DTEND;TZID=UTC:20251029T120000
DTSTAMP:20260420T055802
CREATED:20251028T091148Z
LAST-MODIFIED:20251028T091148Z
UID:6135-1761735600-1761739200@kglayout.nadi.my
SUMMARY:KEUSAHAWANAN - EDISI STRATEGI PERNIAGAAN USAHAWAN NADI 2026
DESCRIPTION:
URL:https://kglayout.nadi.my/event/keusahawanan-edisi-strategi-perniagaan-usahawan-nadi-2026/
END:VEVENT
BEGIN:VEVENT
DTSTART;TZID=UTC:20251030T153000
DTEND;TZID=UTC:20251030T163000
DTSTAMP:20260420T055802
CREATED:20251028T091231Z
LAST-MODIFIED:20251028T091231Z
UID:6137-1761838200-1761841800@kglayout.nadi.my
SUMMARY:DILEA - OPEN TUITION SAINS
DESCRIPTION:
URL:https://kglayout.nadi.my/event/dilea-open-tuition-sains-2/
END:VEVENT
END:VCALENDAR