BEGIN:VCALENDAR
VERSION:2.0
PRODID:-//NADI Kampung Lay Out - ECPv6.15.13.1//NONSGML v1.0//EN
CALSCALE:GREGORIAN
METHOD:PUBLISH
X-WR-CALNAME:NADI Kampung Lay Out
X-ORIGINAL-URL:https://kglayout.nadi.my
X-WR-CALDESC:Events for NADI Kampung Lay Out
REFRESH-INTERVAL;VALUE=DURATION:PT1H
X-Robots-Tag:noindex
X-PUBLISHED-TTL:PT1H
BEGIN:VTIMEZONE
TZID:UTC
BEGIN:STANDARD
TZOFFSETFROM:+0000
TZOFFSETTO:+0000
TZNAME:UTC
DTSTART:20230101T000000
END:STANDARD
END:VTIMEZONE
BEGIN:VEVENT
DTSTART;TZID=UTC:20240102T150000
DTEND;TZID=UTC:20240102T160000
DTSTAMP:20260422T035732
CREATED:20240115T232053Z
LAST-MODIFIED:20240115T232053Z
UID:3207-1704207600-1704211200@kglayout.nadi.my
SUMMARY:KELAS ICT : KUIZ KOTAK BERACUN
DESCRIPTION:
URL:https://kglayout.nadi.my/event/kelas-ict-kuiz-kotak-beracun/
LOCATION:PEDi Kg Layout Tok Saboh\, PEDi Kg Layout Tok Saboh
CATEGORIES:DEFAULT
END:VEVENT
BEGIN:VEVENT
DTSTART;TZID=UTC:20240102T150000
DTEND;TZID=UTC:20240102T160000
DTSTAMP:20260422T035732
CREATED:20240115T232053Z
LAST-MODIFIED:20240115T232053Z
UID:3459-1704207600-1704211200@kglayout.nadi.my
SUMMARY:KELAS ICT : KUIZ KOTAK BERACUN
DESCRIPTION:
URL:https://kglayout.nadi.my/event/kelas-ict-kuiz-kotak-beracun-3/
LOCATION:PEDi Kg Layout Tok Saboh\, PEDi Kg Layout Tok Saboh
CATEGORIES:DEFAULT
END:VEVENT
BEGIN:VEVENT
DTSTART;TZID=UTC:20240102T150000
DTEND;TZID=UTC:20240102T160000
DTSTAMP:20260422T035732
CREATED:20240115T232053Z
LAST-MODIFIED:20240115T232053Z
UID:3357-1704207600-1704211200@kglayout.nadi.my
SUMMARY:KELAS ICT : KUIZ KOTAK BERACUN
DESCRIPTION:
URL:https://kglayout.nadi.my/event/kelas-ict-kuiz-kotak-beracun-2/
LOCATION:PEDi Kg Layout Tok Saboh\, PEDi Kg Layout Tok Saboh
CATEGORIES:DEFAULT
END:VEVENT
BEGIN:VEVENT
DTSTART;TZID=UTC:20240105T093000
DTEND;TZID=UTC:20240105T103000
DTSTAMP:20260422T035732
CREATED:20240115T232140Z
LAST-MODIFIED:20240115T232140Z
UID:3358-1704447000-1704450600@kglayout.nadi.my
SUMMARY:ONLINE LEARNING (WORDWALL MATEMATIK)
DESCRIPTION:
URL:https://kglayout.nadi.my/event/online-learning-wordwall-matematik-2/
LOCATION:PEDi Kg Layout Tok Saboh\, PEDi Kg Layout Tok Saboh
CATEGORIES:DEFAULT
END:VEVENT
BEGIN:VEVENT
DTSTART;TZID=UTC:20240105T093000
DTEND;TZID=UTC:20240105T103000
DTSTAMP:20260422T035732
CREATED:20240115T232140Z
LAST-MODIFIED:20240115T232140Z
UID:3208-1704447000-1704450600@kglayout.nadi.my
SUMMARY:ONLINE LEARNING (WORDWALL MATEMATIK)
DESCRIPTION:
URL:https://kglayout.nadi.my/event/online-learning-wordwall-matematik/
LOCATION:PEDi Kg Layout Tok Saboh\, PEDi Kg Layout Tok Saboh
CATEGORIES:DEFAULT
END:VEVENT
BEGIN:VEVENT
DTSTART;TZID=UTC:20240105T093000
DTEND;TZID=UTC:20240105T103000
DTSTAMP:20260422T035732
CREATED:20240115T232140Z
LAST-MODIFIED:20240115T232140Z
UID:3460-1704447000-1704450600@kglayout.nadi.my
SUMMARY:ONLINE LEARNING (WORDWALL MATEMATIK)
DESCRIPTION:
URL:https://kglayout.nadi.my/event/online-learning-wordwall-matematik-3/
LOCATION:PEDi Kg Layout Tok Saboh\, PEDi Kg Layout Tok Saboh
CATEGORIES:DEFAULT
END:VEVENT
BEGIN:VEVENT
DTSTART;TZID=UTC:20240106T150000
DTEND;TZID=UTC:20240106T160000
DTSTAMP:20260422T035732
CREATED:20240115T232226Z
LAST-MODIFIED:20240115T232226Z
UID:3461-1704553200-1704556800@kglayout.nadi.my
SUMMARY:STEM IOT - BALLONS AND ELECTROSTATIC
DESCRIPTION:
URL:https://kglayout.nadi.my/event/stem-iot-ballons-and-electrostatic-3/
LOCATION:PEDi Kg Layout Tok Saboh\, PEDi Kg Layout Tok Saboh
CATEGORIES:DEFAULT
END:VEVENT
BEGIN:VEVENT
DTSTART;TZID=UTC:20240106T150000
DTEND;TZID=UTC:20240106T160000
DTSTAMP:20260422T035732
CREATED:20240115T232226Z
LAST-MODIFIED:20240115T232226Z
UID:3359-1704553200-1704556800@kglayout.nadi.my
SUMMARY:STEM IOT - BALLONS AND ELECTROSTATIC
DESCRIPTION:
URL:https://kglayout.nadi.my/event/stem-iot-ballons-and-electrostatic-2/
LOCATION:PEDi Kg Layout Tok Saboh\, PEDi Kg Layout Tok Saboh
CATEGORIES:DEFAULT
END:VEVENT
BEGIN:VEVENT
DTSTART;TZID=UTC:20240106T150000
DTEND;TZID=UTC:20240106T160000
DTSTAMP:20260422T035732
CREATED:20240115T232226Z
LAST-MODIFIED:20240115T232226Z
UID:3209-1704553200-1704556800@kglayout.nadi.my
SUMMARY:STEM IOT - BALLONS AND ELECTROSTATIC
DESCRIPTION:
URL:https://kglayout.nadi.my/event/stem-iot-ballons-and-electrostatic/
LOCATION:PEDi Kg Layout Tok Saboh\, PEDi Kg Layout Tok Saboh
CATEGORIES:DEFAULT
END:VEVENT
BEGIN:VEVENT
DTSTART;TZID=UTC:20240107T150000
DTEND;TZID=UTC:20240107T160000
DTSTAMP:20260422T035732
CREATED:20240115T232337Z
LAST-MODIFIED:20240115T232337Z
UID:3462-1704639600-1704643200@kglayout.nadi.my
SUMMARY:MICROSOFT EXCELL
DESCRIPTION:
URL:https://kglayout.nadi.my/event/microsoft-excell-3/
LOCATION:PEDi Kg Layout Tok Saboh\, PEDi Kg Layout Tok Saboh
CATEGORIES:DEFAULT
END:VEVENT
BEGIN:VEVENT
DTSTART;TZID=UTC:20240107T150000
DTEND;TZID=UTC:20240107T160000
DTSTAMP:20260422T035732
CREATED:20240115T232337Z
LAST-MODIFIED:20240115T232337Z
UID:3360-1704639600-1704643200@kglayout.nadi.my
SUMMARY:MICROSOFT EXCELL
DESCRIPTION:
URL:https://kglayout.nadi.my/event/microsoft-excell-2/
LOCATION:PEDi Kg Layout Tok Saboh\, PEDi Kg Layout Tok Saboh
CATEGORIES:DEFAULT
END:VEVENT
BEGIN:VEVENT
DTSTART;TZID=UTC:20240107T150000
DTEND;TZID=UTC:20240107T160000
DTSTAMP:20260422T035732
CREATED:20240115T232337Z
LAST-MODIFIED:20240115T232337Z
UID:3210-1704639600-1704643200@kglayout.nadi.my
SUMMARY:MICROSOFT EXCELL
DESCRIPTION:
URL:https://kglayout.nadi.my/event/microsoft-excell/
LOCATION:PEDi Kg Layout Tok Saboh\, PEDi Kg Layout Tok Saboh
CATEGORIES:DEFAULT
END:VEVENT
BEGIN:VEVENT
DTSTART;TZID=UTC:20240109T110000
DTEND;TZID=UTC:20240109T120000
DTSTAMP:20260422T035732
CREATED:20240115T232411Z
LAST-MODIFIED:20240115T232411Z
UID:3463-1704798000-1704801600@kglayout.nadi.my
SUMMARY:ASAS KEUSAHAWANAN - PENDAFTARAN MYBSN
DESCRIPTION:
URL:https://kglayout.nadi.my/event/asas-keusahawanan-pendaftaran-mybsn-3/
LOCATION:PEDi Kg Layout Tok Saboh\, PEDi Kg Layout Tok Saboh
CATEGORIES:DEFAULT
END:VEVENT
BEGIN:VEVENT
DTSTART;TZID=UTC:20240109T110000
DTEND;TZID=UTC:20240109T120000
DTSTAMP:20260422T035732
CREATED:20240115T232411Z
LAST-MODIFIED:20240115T232411Z
UID:3361-1704798000-1704801600@kglayout.nadi.my
SUMMARY:ASAS KEUSAHAWANAN - PENDAFTARAN MYBSN
DESCRIPTION:
URL:https://kglayout.nadi.my/event/asas-keusahawanan-pendaftaran-mybsn-2/
LOCATION:PEDi Kg Layout Tok Saboh\, PEDi Kg Layout Tok Saboh
CATEGORIES:DEFAULT
END:VEVENT
BEGIN:VEVENT
DTSTART;TZID=UTC:20240109T110000
DTEND;TZID=UTC:20240109T120000
DTSTAMP:20260422T035732
CREATED:20240115T232411Z
LAST-MODIFIED:20240115T232411Z
UID:3211-1704798000-1704801600@kglayout.nadi.my
SUMMARY:ASAS KEUSAHAWANAN - PENDAFTARAN MYBSN
DESCRIPTION:
URL:https://kglayout.nadi.my/event/asas-keusahawanan-pendaftaran-mybsn/
LOCATION:PEDi Kg Layout Tok Saboh\, PEDi Kg Layout Tok Saboh
CATEGORIES:DEFAULT
END:VEVENT
BEGIN:VEVENT
DTSTART;TZID=UTC:20240111T150000
DTEND;TZID=UTC:20240111T160000
DTSTAMP:20260422T035732
CREATED:20240206T164536Z
LAST-MODIFIED:20240206T164536Z
UID:3213-1704985200-1704988800@kglayout.nadi.my
SUMMARY:QUIZZIZ ONLINE
DESCRIPTION:
URL:https://kglayout.nadi.my/event/quizziz-online/
LOCATION:PEDi Kampung Lay Out\, PEDi Kampung Lay Out
CATEGORIES:DEFAULT
END:VEVENT
BEGIN:VEVENT
DTSTART;TZID=UTC:20240111T150000
DTEND;TZID=UTC:20240111T160000
DTSTAMP:20260422T035732
CREATED:20240206T164536Z
LAST-MODIFIED:20240206T164536Z
UID:3464-1704985200-1704988800@kglayout.nadi.my
SUMMARY:QUIZZIZ ONLINE
DESCRIPTION:
URL:https://kglayout.nadi.my/event/quizziz-online-3/
LOCATION:PEDi Kampung Lay Out\, PEDi Kampung Lay Out
CATEGORIES:DEFAULT
END:VEVENT
BEGIN:VEVENT
DTSTART;TZID=UTC:20240111T150000
DTEND;TZID=UTC:20240111T160000
DTSTAMP:20260422T035732
CREATED:20240206T164536Z
LAST-MODIFIED:20240206T164536Z
UID:3362-1704985200-1704988800@kglayout.nadi.my
SUMMARY:QUIZZIZ ONLINE
DESCRIPTION:
URL:https://kglayout.nadi.my/event/quizziz-online-2/
LOCATION:PEDi Kampung Lay Out\, PEDi Kampung Lay Out
CATEGORIES:DEFAULT
END:VEVENT
BEGIN:VEVENT
DTSTART;TZID=UTC:20240112T150000
DTEND;TZID=UTC:20240112T160000
DTSTAMP:20260422T035732
CREATED:20240207T151213Z
LAST-MODIFIED:20240207T151213Z
UID:3363-1705071600-1705075200@kglayout.nadi.my
SUMMARY:ONLINE LEARNING (WORDWALL PADANAN HURUF)
DESCRIPTION:
URL:https://kglayout.nadi.my/event/online-learning-wordwall-padanan-huruf-2/
LOCATION:PEDi Kampung Lay Out\, PEDi Kampung Lay Out
CATEGORIES:DEFAULT
END:VEVENT
BEGIN:VEVENT
DTSTART;TZID=UTC:20240112T150000
DTEND;TZID=UTC:20240112T160000
DTSTAMP:20260422T035732
CREATED:20240207T151213Z
LAST-MODIFIED:20240207T151213Z
UID:3214-1705071600-1705075200@kglayout.nadi.my
SUMMARY:ONLINE LEARNING (WORDWALL PADANAN HURUF)
DESCRIPTION:
URL:https://kglayout.nadi.my/event/online-learning-wordwall-padanan-huruf/
LOCATION:PEDi Kampung Lay Out\, PEDi Kampung Lay Out
CATEGORIES:DEFAULT
END:VEVENT
BEGIN:VEVENT
DTSTART;TZID=UTC:20240112T150000
DTEND;TZID=UTC:20240112T160000
DTSTAMP:20260422T035732
CREATED:20240207T151213Z
LAST-MODIFIED:20240207T151213Z
UID:3465-1705071600-1705075200@kglayout.nadi.my
SUMMARY:ONLINE LEARNING (WORDWALL PADANAN HURUF)
DESCRIPTION:
URL:https://kglayout.nadi.my/event/online-learning-wordwall-padanan-huruf-3/
LOCATION:PEDi Kampung Lay Out\, PEDi Kampung Lay Out
CATEGORIES:DEFAULT
END:VEVENT
BEGIN:VEVENT
DTSTART;TZID=UTC:20240113T150000
DTEND;TZID=UTC:20240113T160000
DTSTAMP:20260422T035732
CREATED:20240207T151624Z
LAST-MODIFIED:20240207T151624Z
UID:3466-1705158000-1705161600@kglayout.nadi.my
SUMMARY:STEM IOT - MAGIC BLOOMING FLOWER PAPERS
DESCRIPTION:
URL:https://kglayout.nadi.my/event/stem-iot-magic-blooming-flower-papers-3/
LOCATION:PEDi Kampung Lay Out\, PEDi Kampung Lay Out
CATEGORIES:DEFAULT
END:VEVENT
BEGIN:VEVENT
DTSTART;TZID=UTC:20240113T150000
DTEND;TZID=UTC:20240113T160000
DTSTAMP:20260422T035732
CREATED:20240207T151624Z
LAST-MODIFIED:20240207T151624Z
UID:3364-1705158000-1705161600@kglayout.nadi.my
SUMMARY:STEM IOT - MAGIC BLOOMING FLOWER PAPERS
DESCRIPTION:
URL:https://kglayout.nadi.my/event/stem-iot-magic-blooming-flower-papers-2/
LOCATION:PEDi Kampung Lay Out\, PEDi Kampung Lay Out
CATEGORIES:DEFAULT
END:VEVENT
BEGIN:VEVENT
DTSTART;TZID=UTC:20240113T150000
DTEND;TZID=UTC:20240113T160000
DTSTAMP:20260422T035732
CREATED:20240207T151624Z
LAST-MODIFIED:20240207T151624Z
UID:3215-1705158000-1705161600@kglayout.nadi.my
SUMMARY:STEM IOT - MAGIC BLOOMING FLOWER PAPERS
DESCRIPTION:
URL:https://kglayout.nadi.my/event/stem-iot-magic-blooming-flower-papers/
LOCATION:PEDi Kampung Lay Out\, PEDi Kampung Lay Out
CATEGORIES:DEFAULT
END:VEVENT
BEGIN:VEVENT
DTSTART;TZID=UTC:20240115T150000
DTEND;TZID=UTC:20240115T160000
DTSTAMP:20260422T035732
CREATED:20240207T152119Z
LAST-MODIFIED:20240207T152119Z
UID:3467-1705330800-1705334400@kglayout.nadi.my
SUMMARY:RESUME WRITING
DESCRIPTION:
URL:https://kglayout.nadi.my/event/resume-writing-11/
LOCATION:PEDi Kampung Lay Out\, PEDi Kampung Lay Out
CATEGORIES:DEFAULT
END:VEVENT
BEGIN:VEVENT
DTSTART;TZID=UTC:20240115T150000
DTEND;TZID=UTC:20240115T160000
DTSTAMP:20260422T035732
CREATED:20240207T152119Z
LAST-MODIFIED:20240207T152119Z
UID:3365-1705330800-1705334400@kglayout.nadi.my
SUMMARY:RESUME WRITING
DESCRIPTION:
URL:https://kglayout.nadi.my/event/resume-writing-8/
LOCATION:PEDi Kampung Lay Out\, PEDi Kampung Lay Out
CATEGORIES:DEFAULT
END:VEVENT
BEGIN:VEVENT
DTSTART;TZID=UTC:20240115T150000
DTEND;TZID=UTC:20240115T160000
DTSTAMP:20260422T035732
CREATED:20240207T152119Z
LAST-MODIFIED:20240207T152119Z
UID:3216-1705330800-1705334400@kglayout.nadi.my
SUMMARY:RESUME WRITING
DESCRIPTION:
URL:https://kglayout.nadi.my/event/resume-writing-4/
LOCATION:PEDi Kampung Lay Out\, PEDi Kampung Lay Out
CATEGORIES:DEFAULT
END:VEVENT
BEGIN:VEVENT
DTSTART;TZID=UTC:20240116T030000
DTEND;TZID=UTC:20240116T160000
DTSTAMP:20260422T035732
CREATED:20240207T154547Z
LAST-MODIFIED:20240207T154547Z
UID:3468-1705374000-1705420800@kglayout.nadi.my
SUMMARY:LATIHAN MENAIP PANTAS
DESCRIPTION:
URL:https://kglayout.nadi.my/event/latihan-menaip-pantas-3/
LOCATION:PEDi Kampung Lay Out\, PEDi Kampung Lay Out
CATEGORIES:DEFAULT
END:VEVENT
BEGIN:VEVENT
DTSTART;TZID=UTC:20240116T030000
DTEND;TZID=UTC:20240116T160000
DTSTAMP:20260422T035732
CREATED:20240207T154547Z
LAST-MODIFIED:20240207T154547Z
UID:3366-1705374000-1705420800@kglayout.nadi.my
SUMMARY:LATIHAN MENAIP PANTAS
DESCRIPTION:
URL:https://kglayout.nadi.my/event/latihan-menaip-pantas-2/
LOCATION:PEDi Kampung Lay Out\, PEDi Kampung Lay Out
CATEGORIES:DEFAULT
END:VEVENT
BEGIN:VEVENT
DTSTART;TZID=UTC:20240116T030000
DTEND;TZID=UTC:20240116T160000
DTSTAMP:20260422T035732
CREATED:20240207T154547Z
LAST-MODIFIED:20240207T154547Z
UID:3217-1705374000-1705420800@kglayout.nadi.my
SUMMARY:LATIHAN MENAIP PANTAS
DESCRIPTION:
URL:https://kglayout.nadi.my/event/latihan-menaip-pantas/
LOCATION:PEDi Kampung Lay Out\, PEDi Kampung Lay Out
CATEGORIES:DEFAULT
END:VEVENT
END:VCALENDAR