BEGIN:VCALENDAR
VERSION:2.0
PRODID:-//NADI Kampung Lay Out - ECPv6.15.13.1//NONSGML v1.0//EN
CALSCALE:GREGORIAN
METHOD:PUBLISH
X-WR-CALNAME:NADI Kampung Lay Out
X-ORIGINAL-URL:https://kglayout.nadi.my
X-WR-CALDESC:Events for NADI Kampung Lay Out
REFRESH-INTERVAL;VALUE=DURATION:PT1H
X-Robots-Tag:noindex
X-PUBLISHED-TTL:PT1H
BEGIN:VTIMEZONE
TZID:UTC
BEGIN:STANDARD
TZOFFSETFROM:+0000
TZOFFSETTO:+0000
TZNAME:UTC
DTSTART:20240101T000000
END:STANDARD
END:VTIMEZONE
BEGIN:VTIMEZONE
TZID:UTC
BEGIN:STANDARD
TZOFFSETFROM:+0000
TZOFFSETTO:+0000
TZNAME:UTC
DTSTART:20230101T000000
END:STANDARD
END:VTIMEZONE
BEGIN:VEVENT
DTSTART;TZID=UTC:20251023T100000
DTEND;TZID=UTC:20251023T110000
DTSTAMP:20260419T123550
CREATED:20251022T065539Z
LAST-MODIFIED:20251022T065850Z
UID:5985-1761213600-1761217200@kglayout.nadi.my
SUMMARY:WEBINAR PEMASARAN DIGITAL eKELAS
DESCRIPTION:
URL:https://kglayout.nadi.my/event/open-tuition-bahasa-melayu/
END:VEVENT
BEGIN:VEVENT
DTSTART;TZID=UTC:20251018T113000
DTEND;TZID=UTC:20251018T123000
DTSTAMP:20260419T123550
CREATED:20251015T022633Z
LAST-MODIFIED:20251015T022703Z
UID:5829-1760787000-1760790600@kglayout.nadi.my
SUMMARY:BENGKEL TINY TECH IoT INOVASI - SEK MENENGAH
DESCRIPTION:
URL:https://kglayout.nadi.my/event/bengkel-tiny-tech-iot-inovasi-sek-menengah/
END:VEVENT
BEGIN:VEVENT
DTSTART;TZID=UTC:20251018T100000
DTEND;TZID=UTC:20251018T110000
DTSTAMP:20260419T123550
CREATED:20251015T022456Z
LAST-MODIFIED:20251015T022516Z
UID:5826-1760781600-1760785200@kglayout.nadi.my
SUMMARY:BENGKEL TINY TECH SUMO ROBOT - SEK RENDAH
DESCRIPTION:
URL:https://kglayout.nadi.my/event/bengkel-tiny-tech-sumo-robot-sek-rendah/
END:VEVENT
BEGIN:VEVENT
DTSTART;TZID=UTC:20251016T153000
DTEND;TZID=UTC:20251016T163000
DTSTAMP:20260419T123550
CREATED:20251015T020308Z
LAST-MODIFIED:20251015T020400Z
UID:5822-1760628600-1760632200@kglayout.nadi.my
SUMMARY:DILEA - OPEN TUITION SAINS
DESCRIPTION:
URL:https://kglayout.nadi.my/event/dilea-open-tuition-sains/
END:VEVENT
BEGIN:VEVENT
DTSTART;TZID=UTC:20251016T100000
DTEND;TZID=UTC:20251016T113000
DTSTAMP:20260419T123550
CREATED:20251015T020632Z
LAST-MODIFIED:20251015T020632Z
UID:5824-1760608800-1760614200@kglayout.nadi.my
SUMMARY:WEBINAR KEUSAHAWANAN COHORT 5 - PEMASARAN & OPERASI PERNIAGAAN
DESCRIPTION:
URL:https://kglayout.nadi.my/event/webinar-keusahawanan-cohort-5-pemasaran-operasi-perniagaan/
END:VEVENT
BEGIN:VEVENT
DTSTART;TZID=UTC:20250808T103000
DTEND;TZID=UTC:20250808T233000
DTSTAMP:20260419T123550
CREATED:20250808T064358Z
LAST-MODIFIED:20250808T064358Z
UID:5214-1754649000-1754695800@kglayout.nadi.my
SUMMARY:WEBINAR PERCUMA UNTUK KAUM LELAKI
DESCRIPTION:
URL:https://kglayout.nadi.my/event/webinar-percuma-untuk-kaum-lelaki/
END:VEVENT
BEGIN:VEVENT
DTSTART;TZID=UTC:20250802T143000
DTEND;TZID=UTC:20250802T163000
DTSTAMP:20260419T123550
CREATED:20250808T041851Z
LAST-MODIFIED:20250808T041851Z
UID:5211-1754145000-1754152200@kglayout.nadi.my
SUMMARY:WEBINAR BERKALA SEJARAH
DESCRIPTION:
URL:https://kglayout.nadi.my/event/webinar-berkala-sejarah/
END:VEVENT
BEGIN:VEVENT
DTSTART;TZID=UTC:20240822T150000
DTEND;TZID=UTC:20240822T160000
DTSTAMP:20260419T123550
CREATED:20240825T160616Z
LAST-MODIFIED:20240825T160616Z
UID:3579-1724338800-1724342400@kglayout.nadi.my
SUMMARY:KEUSAHAWANAN : ONLINE BANKING (MAYBANK2U)
DESCRIPTION:
URL:https://kglayout.nadi.my/event/keusahawanan-online-banking-maybank2u/
LOCATION:NADI Kg Lay Out\, NADI Kg Lay Out
CATEGORIES:DEFAULT
END:VEVENT
BEGIN:VEVENT
DTSTART;TZID=UTC:20240820T150000
DTEND;TZID=UTC:20240820T160000
DTSTAMP:20260419T123550
CREATED:20240825T160523Z
LAST-MODIFIED:20240825T160523Z
UID:3578-1724166000-1724169600@kglayout.nadi.my
SUMMARY:MICROSOFT WORD (MENAIP SURAT RASMI)
DESCRIPTION:
URL:https://kglayout.nadi.my/event/microsoft-word-menaip-surat-rasmi/
LOCATION:NADI Kg Lay Out\, NADI Kg Lay Out
CATEGORIES:DEFAULT
END:VEVENT
BEGIN:VEVENT
DTSTART;TZID=UTC:20240819T150000
DTEND;TZID=UTC:20240819T160000
DTSTAMP:20260419T123550
CREATED:20240825T160425Z
LAST-MODIFIED:20240825T160425Z
UID:3577-1724079600-1724083200@kglayout.nadi.my
SUMMARY:ONLINE LEARNING (PENGISIAN ONLINE TINGKATAN 1)
DESCRIPTION:
URL:https://kglayout.nadi.my/event/online-learning-pengisian-online-tingkatan-1/
LOCATION:NADI Kg Lay Out\, NADI Kg Lay Out
CATEGORIES:DEFAULT
END:VEVENT
BEGIN:VEVENT
DTSTART;TZID=UTC:20240818T150000
DTEND;TZID=UTC:20240818T160000
DTSTAMP:20260419T123550
CREATED:20240825T160351Z
LAST-MODIFIED:20240825T160351Z
UID:3576-1723993200-1723996800@kglayout.nadi.my
SUMMARY:STEM IOT (TALLEST CUP TOWER)
DESCRIPTION:
URL:https://kglayout.nadi.my/event/stem-iot-tallest-cup-tower/
LOCATION:NADI Kg Lay Out\, NADI Kg Lay Out
CATEGORIES:DEFAULT
END:VEVENT
BEGIN:VEVENT
DTSTART;TZID=UTC:20240817T100000
DTEND;TZID=UTC:20240817T110000
DTSTAMP:20260419T123550
CREATED:20240825T160314Z
LAST-MODIFIED:20240825T160314Z
UID:3575-1723888800-1723892400@kglayout.nadi.my
SUMMARY:STEM IOT (TAPAK TANGAN MERDEKA)
DESCRIPTION:
URL:https://kglayout.nadi.my/event/stem-iot-tapak-tangan-merdeka/
LOCATION:NADI Kg Lay Out\, NADI Kg Lay Out
CATEGORIES:DEFAULT
END:VEVENT
BEGIN:VEVENT
DTSTART;TZID=UTC:20240816T100000
DTEND;TZID=UTC:20240816T110000
DTSTAMP:20260419T123550
CREATED:20240825T153851Z
LAST-MODIFIED:20240825T153851Z
UID:3574-1723802400-1723806000@kglayout.nadi.my
SUMMARY:STEM IOT (BAKUL MERDEKA)
DESCRIPTION:
URL:https://kglayout.nadi.my/event/stem-iot-bakul-merdeka/
LOCATION:NADI Kg Lay Out\, NADI Kg Lay Out
CATEGORIES:DEFAULT
END:VEVENT
BEGIN:VEVENT
DTSTART;TZID=UTC:20240814T150000
DTEND;TZID=UTC:20240814T160000
DTSTAMP:20260419T123550
CREATED:20240825T153807Z
LAST-MODIFIED:20240825T153807Z
UID:3573-1723647600-1723651200@kglayout.nadi.my
SUMMARY:SOFTSKILL : RESUME WRITING
DESCRIPTION:
URL:https://kglayout.nadi.my/event/softskill-resume-writing-14/
LOCATION:NADI Kg Lay Out\, NADI Kg Lay Out
CATEGORIES:DEFAULT
END:VEVENT
BEGIN:VEVENT
DTSTART;TZID=UTC:20240813T150000
DTEND;TZID=UTC:20240813T160000
DTSTAMP:20260419T123550
CREATED:20240825T153728Z
LAST-MODIFIED:20240825T153728Z
UID:3572-1723561200-1723564800@kglayout.nadi.my
SUMMARY:KEUSAHAWANAN DESIGN CANVA
DESCRIPTION:
URL:https://kglayout.nadi.my/event/keusahawanan-design-canva/
LOCATION:NADI Kg Lay Out\, NADI Kg Lay Out
CATEGORIES:DEFAULT
END:VEVENT
BEGIN:VEVENT
DTSTART;TZID=UTC:20240811T150000
DTEND;TZID=UTC:20240811T160000
DTSTAMP:20260419T123550
CREATED:20240825T153654Z
LAST-MODIFIED:20240825T153654Z
UID:3571-1723388400-1723392000@kglayout.nadi.my
SUMMARY:ICT : QUIZZIZ ONLINE KEMERDEKAAN
DESCRIPTION:
URL:https://kglayout.nadi.my/event/ict-quizziz-online-kemerdekaan/
LOCATION:NADI Kg Lay Out\, NADI Kg Lay Out
CATEGORIES:DEFAULT
END:VEVENT
BEGIN:VEVENT
DTSTART;TZID=UTC:20240810T100000
DTEND;TZID=UTC:20240810T110000
DTSTAMP:20260419T123550
CREATED:20240825T153601Z
LAST-MODIFIED:20240825T153601Z
UID:3570-1723284000-1723287600@kglayout.nadi.my
SUMMARY:ICT : LATIHAN AWAL MENAIP
DESCRIPTION:
URL:https://kglayout.nadi.my/event/ict-latihan-awal-menaip/
LOCATION:NADI Kg Lay Out\, NADI Kg Lay Out
CATEGORIES:DEFAULT
END:VEVENT
BEGIN:VEVENT
DTSTART;TZID=UTC:20240809T100000
DTEND;TZID=UTC:20240809T110000
DTSTAMP:20260419T123550
CREATED:20240825T153243Z
LAST-MODIFIED:20240825T153243Z
UID:3569-1723197600-1723201200@kglayout.nadi.my
SUMMARY:SOFTSKILL : UJI MINDA (KEMERDEKAAN)
DESCRIPTION:
URL:https://kglayout.nadi.my/event/softskill-uji-minda-kemerdekaan/
LOCATION:NADI Kg Lay Out\, NADI Kg Lay Out
CATEGORIES:DEFAULT
END:VEVENT
BEGIN:VEVENT
DTSTART;TZID=UTC:20240808T150000
DTEND;TZID=UTC:20240808T160000
DTSTAMP:20260419T123550
CREATED:20240825T153158Z
LAST-MODIFIED:20240825T153158Z
UID:3568-1723129200-1723132800@kglayout.nadi.my
SUMMARY:KEUSAHAWANAN : CREATE TIKTOK LIVE
DESCRIPTION:
URL:https://kglayout.nadi.my/event/keusahawanan-create-tiktok-live/
LOCATION:NADI Kg Lay Out\, NADI Kg Lay Out
CATEGORIES:DEFAULT
END:VEVENT
BEGIN:VEVENT
DTSTART;TZID=UTC:20240806T150000
DTEND;TZID=UTC:20240806T160000
DTSTAMP:20260419T123550
CREATED:20240825T153051Z
LAST-MODIFIED:20240825T153051Z
UID:3567-1722956400-1722960000@kglayout.nadi.my
SUMMARY:EPEMBELAJARAN ONLINE LEARNING : PENGISIAN ONLINE (DELIMA 2.0)
DESCRIPTION:
URL:https://kglayout.nadi.my/event/epembelajaran-online-learning-pengisian-online-delima-2-0/
LOCATION:NADI Kg Lay Out\, NADI Kg Lay Out
CATEGORIES:DEFAULT
END:VEVENT
BEGIN:VEVENT
DTSTART;TZID=UTC:20240804T150000
DTEND;TZID=UTC:20240804T160000
DTSTAMP:20260419T123550
CREATED:20240825T153004Z
LAST-MODIFIED:20240825T153004Z
UID:3566-1722783600-1722787200@kglayout.nadi.my
SUMMARY:ICT : LATIHAN MEWARNA ONLINE
DESCRIPTION:
URL:https://kglayout.nadi.my/event/ict-latihan-mewarna-online-5/
LOCATION:NADI Kg Lay Out\, NADI Kg Lay Out
CATEGORIES:DEFAULT
END:VEVENT
BEGIN:VEVENT
DTSTART;TZID=UTC:20240803T100000
DTEND;TZID=UTC:20240803T110000
DTSTAMP:20260419T123550
CREATED:20240805T143350Z
LAST-MODIFIED:20240805T143350Z
UID:3565-1722679200-1722682800@kglayout.nadi.my
SUMMARY:EPEMBELAJARAN ONLINE LEARNING (PUZZLE MERDEKA)
DESCRIPTION:
URL:https://kglayout.nadi.my/event/epembelajaran-online-learning-puzzle-merdeka/
LOCATION:NADI Kg Lay Out\, NADI Kg Lay Out
CATEGORIES:DEFAULT
END:VEVENT
BEGIN:VEVENT
DTSTART;TZID=UTC:20240723T150000
DTEND;TZID=UTC:20240723T160000
DTSTAMP:20260419T123550
CREATED:20240724T144944Z
LAST-MODIFIED:20240724T144944Z
UID:3564-1721746800-1721750400@kglayout.nadi.my
SUMMARY:KEUSAHAWANAN CREATE SHOPEE
DESCRIPTION:
URL:https://kglayout.nadi.my/event/keusahawanan-create-shopee/
LOCATION:NADI Kg Lay Out\, NADI Kg Lay Out
CATEGORIES:DEFAULT
END:VEVENT
BEGIN:VEVENT
DTSTART;TZID=UTC:20240722T150000
DTEND;TZID=UTC:20240722T160000
DTSTAMP:20260419T123550
CREATED:20240724T144856Z
LAST-MODIFIED:20240724T144856Z
UID:3563-1721660400-1721664000@kglayout.nadi.my
SUMMARY:STEM IOT (HUJAN PELANGI)
DESCRIPTION:
URL:https://kglayout.nadi.my/event/stem-iot-hujan-pelangi/
LOCATION:NADI Kg Lay Out\, NADI Kg Lay Out
CATEGORIES:DEFAULT
END:VEVENT
BEGIN:VEVENT
DTSTART;TZID=UTC:20240721T150000
DTEND;TZID=UTC:20240721T160000
DTSTAMP:20260419T123550
CREATED:20240724T144823Z
LAST-MODIFIED:20240724T144823Z
UID:3562-1721574000-1721577600@kglayout.nadi.my
SUMMARY:STEM IOT (BELON MENGEMBANG SENDIRI)
DESCRIPTION:
URL:https://kglayout.nadi.my/event/stem-iot-belon-mengembang-sendiri/
LOCATION:NADI Kg Lay Out\, NADI Kg Lay Out
CATEGORIES:DEFAULT
END:VEVENT
BEGIN:VEVENT
DTSTART;TZID=UTC:20240720T100000
DTEND;TZID=UTC:20240720T110000
DTSTAMP:20260419T123550
CREATED:20240724T144747Z
LAST-MODIFIED:20240724T144747Z
UID:3561-1721469600-1721473200@kglayout.nadi.my
SUMMARY:STEM IOT (3D HOLLOGRAM)
DESCRIPTION:
URL:https://kglayout.nadi.my/event/stem-iot-3d-hollogram/
LOCATION:NADI Kg Lay Out\, NADI Kg Lay Out
CATEGORIES:DEFAULT
END:VEVENT
BEGIN:VEVENT
DTSTART;TZID=UTC:20240719T100000
DTEND;TZID=UTC:20240719T110000
DTSTAMP:20260419T123550
CREATED:20240724T144717Z
LAST-MODIFIED:20240724T144717Z
UID:3560-1721383200-1721386800@kglayout.nadi.my
SUMMARY:KEUSAHAWANAN CANVA (CREATE BANNER)
DESCRIPTION:
URL:https://kglayout.nadi.my/event/keusahawanan-canva-create-banner/
LOCATION:NADI Kg Lay Out\, NADI Kg Lay Out
CATEGORIES:DEFAULT
END:VEVENT
BEGIN:VEVENT
DTSTART;TZID=UTC:20240718T150000
DTEND;TZID=UTC:20240718T160000
DTSTAMP:20260419T123550
CREATED:20240724T144229Z
LAST-MODIFIED:20240724T144229Z
UID:3559-1721314800-1721318400@kglayout.nadi.my
SUMMARY:MICROSOFT EXCEL (CREATE GRAPH)
DESCRIPTION:
URL:https://kglayout.nadi.my/event/microsoft-excel-create-graph/
LOCATION:NADI Kg Lay Out\, NADI Kg Lay Out
CATEGORIES:DEFAULT
END:VEVENT
BEGIN:VEVENT
DTSTART;TZID=UTC:20240717T150000
DTEND;TZID=UTC:20240717T160000
DTSTAMP:20260419T123550
CREATED:20240724T144130Z
LAST-MODIFIED:20240724T144130Z
UID:3558-1721228400-1721232000@kglayout.nadi.my
SUMMARY:SOFTSKILL KAD PERKAHWINAN (CANVA)
DESCRIPTION:
URL:https://kglayout.nadi.my/event/softskill-kad-perkahwinan-canva/
LOCATION:NADI Kg Lay Out\, NADI Kg Lay Out
CATEGORIES:DEFAULT
END:VEVENT
BEGIN:VEVENT
DTSTART;TZID=UTC:20240715T150000
DTEND;TZID=UTC:20240715T160000
DTSTAMP:20260419T123550
CREATED:20240724T144024Z
LAST-MODIFIED:20240724T144024Z
UID:3557-1721055600-1721059200@kglayout.nadi.my
SUMMARY:ONLINE LEARNING (SEARCH ENGINE)
DESCRIPTION:
URL:https://kglayout.nadi.my/event/online-learning-search-engine/
LOCATION:NADI Kg Lay Out\, NADI Kg Lay Out
CATEGORIES:DEFAULT
END:VEVENT
END:VCALENDAR