BEGIN:VCALENDAR
VERSION:2.0
PRODID:-//NADI Kampung Lay Out - ECPv6.15.13.1//NONSGML v1.0//EN
CALSCALE:GREGORIAN
METHOD:PUBLISH
X-WR-CALNAME:NADI Kampung Lay Out
X-ORIGINAL-URL:https://kglayout.nadi.my
X-WR-CALDESC:Events for NADI Kampung Lay Out
REFRESH-INTERVAL;VALUE=DURATION:PT1H
X-Robots-Tag:noindex
X-PUBLISHED-TTL:PT1H
BEGIN:VTIMEZONE
TZID:UTC
BEGIN:STANDARD
TZOFFSETFROM:+0000
TZOFFSETTO:+0000
TZNAME:UTC
DTSTART:20230101T000000
END:STANDARD
END:VTIMEZONE
BEGIN:VEVENT
DTSTART;TZID=UTC:20240405T100000
DTEND;TZID=UTC:20240405T110000
DTSTAMP:20260423T052614
CREATED:20240420T110117Z
LAST-MODIFIED:20240420T110117Z
UID:3405-1712311200-1712314800@kglayout.nadi.my
SUMMARY:STEM IOT
DESCRIPTION:
URL:https://kglayout.nadi.my/event/stem-iot-10/
LOCATION:NADI KG LAYOUT\, NADI KG LAYOUT
CATEGORIES:DEFAULT
END:VEVENT
BEGIN:VEVENT
DTSTART;TZID=UTC:20240405T100000
DTEND;TZID=UTC:20240405T110000
DTSTAMP:20260423T052614
CREATED:20240420T110117Z
LAST-MODIFIED:20240420T110117Z
UID:3507-1712311200-1712314800@kglayout.nadi.my
SUMMARY:STEM IOT
DESCRIPTION:
URL:https://kglayout.nadi.my/event/stem-iot-14/
LOCATION:NADI KG LAYOUT\, NADI KG LAYOUT
CATEGORIES:DEFAULT
END:VEVENT
BEGIN:VEVENT
DTSTART;TZID=UTC:20240403T150000
DTEND;TZID=UTC:20240403T160000
DTSTAMP:20260423T052614
CREATED:20240408T141706Z
LAST-MODIFIED:20240408T141706Z
UID:3404-1712156400-1712160000@kglayout.nadi.my
SUMMARY:E PEMBELAJARAN : ONLINE LEARNING (MINDMAP CANVA)
DESCRIPTION:
URL:https://kglayout.nadi.my/event/e-pembelajaran-online-learning-mindmap-canva-2/
LOCATION:PEDi Kampung Lay Out\, PEDi Kampung Lay Out
CATEGORIES:DEFAULT
END:VEVENT
BEGIN:VEVENT
DTSTART;TZID=UTC:20240403T150000
DTEND;TZID=UTC:20240403T160000
DTSTAMP:20260423T052614
CREATED:20240408T141706Z
LAST-MODIFIED:20240408T141706Z
UID:3506-1712156400-1712160000@kglayout.nadi.my
SUMMARY:E PEMBELAJARAN : ONLINE LEARNING (MINDMAP CANVA)
DESCRIPTION:
URL:https://kglayout.nadi.my/event/e-pembelajaran-online-learning-mindmap-canva-3/
LOCATION:PEDi Kampung Lay Out\, PEDi Kampung Lay Out
CATEGORIES:DEFAULT
END:VEVENT
BEGIN:VEVENT
DTSTART;TZID=UTC:20240403T150000
DTEND;TZID=UTC:20240403T160000
DTSTAMP:20260423T052614
CREATED:20240408T141706Z
LAST-MODIFIED:20240408T141706Z
UID:3256-1712156400-1712160000@kglayout.nadi.my
SUMMARY:E PEMBELAJARAN : ONLINE LEARNING (MINDMAP CANVA)
DESCRIPTION:
URL:https://kglayout.nadi.my/event/e-pembelajaran-online-learning-mindmap-canva/
LOCATION:PEDi Kampung Lay Out\, PEDi Kampung Lay Out
CATEGORIES:DEFAULT
END:VEVENT
BEGIN:VEVENT
DTSTART;TZID=UTC:20240402T150000
DTEND;TZID=UTC:20240402T160000
DTSTAMP:20260423T052614
CREATED:20240408T141433Z
LAST-MODIFIED:20240408T141433Z
UID:3403-1712070000-1712073600@kglayout.nadi.my
SUMMARY:KELAS ICT : MENCIPTA KAD RAYA
DESCRIPTION:
URL:https://kglayout.nadi.my/event/kelas-ict-mencipta-kad-raya-2/
LOCATION:PEDi Kampung Lay Out\, PEDi Kampung Lay Out
CATEGORIES:DEFAULT
END:VEVENT
BEGIN:VEVENT
DTSTART;TZID=UTC:20240402T150000
DTEND;TZID=UTC:20240402T160000
DTSTAMP:20260423T052614
CREATED:20240408T141433Z
LAST-MODIFIED:20240408T141433Z
UID:3505-1712070000-1712073600@kglayout.nadi.my
SUMMARY:KELAS ICT : MENCIPTA KAD RAYA
DESCRIPTION:
URL:https://kglayout.nadi.my/event/kelas-ict-mencipta-kad-raya-3/
LOCATION:PEDi Kampung Lay Out\, PEDi Kampung Lay Out
CATEGORIES:DEFAULT
END:VEVENT
BEGIN:VEVENT
DTSTART;TZID=UTC:20240402T150000
DTEND;TZID=UTC:20240402T160000
DTSTAMP:20260423T052614
CREATED:20240408T141433Z
LAST-MODIFIED:20240408T141433Z
UID:3255-1712070000-1712073600@kglayout.nadi.my
SUMMARY:KELAS ICT : MENCIPTA KAD RAYA
DESCRIPTION:
URL:https://kglayout.nadi.my/event/kelas-ict-mencipta-kad-raya/
LOCATION:PEDi Kampung Lay Out\, PEDi Kampung Lay Out
CATEGORIES:DEFAULT
END:VEVENT
BEGIN:VEVENT
DTSTART;TZID=UTC:20240326T150000
DTEND;TZID=UTC:20240326T160000
DTSTAMP:20260423T052614
CREATED:20240329T143129Z
LAST-MODIFIED:20240329T143129Z
UID:3254-1711465200-1711468800@kglayout.nadi.my
SUMMARY:MICROSOFT WORD (MENAIP SURAT)
DESCRIPTION:
URL:https://kglayout.nadi.my/event/microsoft-word-menaip-surat/
LOCATION:PEDi Kampung Lay Out\, PEDi Kampung Lay Out
CATEGORIES:DEFAULT
END:VEVENT
BEGIN:VEVENT
DTSTART;TZID=UTC:20240326T150000
DTEND;TZID=UTC:20240326T160000
DTSTAMP:20260423T052614
CREATED:20240329T143129Z
LAST-MODIFIED:20240329T143129Z
UID:3402-1711465200-1711468800@kglayout.nadi.my
SUMMARY:MICROSOFT WORD (MENAIP SURAT)
DESCRIPTION:
URL:https://kglayout.nadi.my/event/microsoft-word-menaip-surat-2/
LOCATION:PEDi Kampung Lay Out\, PEDi Kampung Lay Out
CATEGORIES:DEFAULT
END:VEVENT
BEGIN:VEVENT
DTSTART;TZID=UTC:20240326T150000
DTEND;TZID=UTC:20240326T160000
DTSTAMP:20260423T052614
CREATED:20240329T143129Z
LAST-MODIFIED:20240329T143129Z
UID:3504-1711465200-1711468800@kglayout.nadi.my
SUMMARY:MICROSOFT WORD (MENAIP SURAT)
DESCRIPTION:
URL:https://kglayout.nadi.my/event/microsoft-word-menaip-surat-3/
LOCATION:PEDi Kampung Lay Out\, PEDi Kampung Lay Out
CATEGORIES:DEFAULT
END:VEVENT
BEGIN:VEVENT
DTSTART;TZID=UTC:20240323T150000
DTEND;TZID=UTC:20240323T160000
DTSTAMP:20260423T052614
CREATED:20240329T143028Z
LAST-MODIFIED:20240329T143028Z
UID:3253-1711206000-1711209600@kglayout.nadi.my
SUMMARY:STEM IOT (CRAFT STICK CATAPULT)
DESCRIPTION:
URL:https://kglayout.nadi.my/event/stem-iot-craft-stick-catapult/
LOCATION:PEDi Kampung Lay Out\, PEDi Kampung Lay Out
CATEGORIES:DEFAULT
END:VEVENT
BEGIN:VEVENT
DTSTART;TZID=UTC:20240323T150000
DTEND;TZID=UTC:20240323T160000
DTSTAMP:20260423T052614
CREATED:20240329T143028Z
LAST-MODIFIED:20240329T143028Z
UID:3401-1711206000-1711209600@kglayout.nadi.my
SUMMARY:STEM IOT (CRAFT STICK CATAPULT)
DESCRIPTION:
URL:https://kglayout.nadi.my/event/stem-iot-craft-stick-catapult-2/
LOCATION:PEDi Kampung Lay Out\, PEDi Kampung Lay Out
CATEGORIES:DEFAULT
END:VEVENT
BEGIN:VEVENT
DTSTART;TZID=UTC:20240323T150000
DTEND;TZID=UTC:20240323T160000
DTSTAMP:20260423T052614
CREATED:20240329T143028Z
LAST-MODIFIED:20240329T143028Z
UID:3503-1711206000-1711209600@kglayout.nadi.my
SUMMARY:STEM IOT (CRAFT STICK CATAPULT)
DESCRIPTION:
URL:https://kglayout.nadi.my/event/stem-iot-craft-stick-catapult-3/
LOCATION:PEDi Kampung Lay Out\, PEDi Kampung Lay Out
CATEGORIES:DEFAULT
END:VEVENT
BEGIN:VEVENT
DTSTART;TZID=UTC:20240322T100000
DTEND;TZID=UTC:20240322T110000
DTSTAMP:20260423T052614
CREATED:20240329T142943Z
LAST-MODIFIED:20240329T142943Z
UID:3252-1711101600-1711105200@kglayout.nadi.my
SUMMARY:CREATE AKAUN CIDB
DESCRIPTION:
URL:https://kglayout.nadi.my/event/create-akaun-cidb/
LOCATION:PEDi Kampung Lay Out\, PEDi Kampung Lay Out
CATEGORIES:DEFAULT
END:VEVENT
BEGIN:VEVENT
DTSTART;TZID=UTC:20240322T100000
DTEND;TZID=UTC:20240322T110000
DTSTAMP:20260423T052614
CREATED:20240329T142943Z
LAST-MODIFIED:20240329T142943Z
UID:3400-1711101600-1711105200@kglayout.nadi.my
SUMMARY:CREATE AKAUN CIDB
DESCRIPTION:
URL:https://kglayout.nadi.my/event/create-akaun-cidb-2/
LOCATION:PEDi Kampung Lay Out\, PEDi Kampung Lay Out
CATEGORIES:DEFAULT
END:VEVENT
BEGIN:VEVENT
DTSTART;TZID=UTC:20240322T100000
DTEND;TZID=UTC:20240322T110000
DTSTAMP:20260423T052614
CREATED:20240329T142943Z
LAST-MODIFIED:20240329T142943Z
UID:3502-1711101600-1711105200@kglayout.nadi.my
SUMMARY:CREATE AKAUN CIDB
DESCRIPTION:
URL:https://kglayout.nadi.my/event/create-akaun-cidb-3/
LOCATION:PEDi Kampung Lay Out\, PEDi Kampung Lay Out
CATEGORIES:DEFAULT
END:VEVENT
BEGIN:VEVENT
DTSTART;TZID=UTC:20240321T150000
DTEND;TZID=UTC:20240321T160000
DTSTAMP:20260423T052614
CREATED:20240329T142844Z
LAST-MODIFIED:20240329T142844Z
UID:3399-1711033200-1711036800@kglayout.nadi.my
SUMMARY:STEM IOT (THE TALLEST TOWER CHALLENGE)
DESCRIPTION:
URL:https://kglayout.nadi.my/event/stem-iot-the-tallest-tower-challenge-2/
LOCATION:PEDi Kampung Lay Out\, PEDi Kampung Lay Out
CATEGORIES:DEFAULT
END:VEVENT
BEGIN:VEVENT
DTSTART;TZID=UTC:20240321T150000
DTEND;TZID=UTC:20240321T160000
DTSTAMP:20260423T052614
CREATED:20240329T142844Z
LAST-MODIFIED:20240329T142844Z
UID:3501-1711033200-1711036800@kglayout.nadi.my
SUMMARY:STEM IOT (THE TALLEST TOWER CHALLENGE)
DESCRIPTION:
URL:https://kglayout.nadi.my/event/stem-iot-the-tallest-tower-challenge-3/
LOCATION:PEDi Kampung Lay Out\, PEDi Kampung Lay Out
CATEGORIES:DEFAULT
END:VEVENT
BEGIN:VEVENT
DTSTART;TZID=UTC:20240321T150000
DTEND;TZID=UTC:20240321T160000
DTSTAMP:20260423T052614
CREATED:20240329T142844Z
LAST-MODIFIED:20240329T142844Z
UID:3251-1711033200-1711036800@kglayout.nadi.my
SUMMARY:STEM IOT (THE TALLEST TOWER CHALLENGE)
DESCRIPTION:
URL:https://kglayout.nadi.my/event/stem-iot-the-tallest-tower-challenge/
LOCATION:PEDi Kampung Lay Out\, PEDi Kampung Lay Out
CATEGORIES:DEFAULT
END:VEVENT
BEGIN:VEVENT
DTSTART;TZID=UTC:20240319T150000
DTEND;TZID=UTC:20240319T160000
DTSTAMP:20260423T052614
CREATED:20240329T142523Z
LAST-MODIFIED:20240329T142523Z
UID:3398-1710860400-1710864000@kglayout.nadi.my
SUMMARY:CREATE QR CODE
DESCRIPTION:
URL:https://kglayout.nadi.my/event/create-qr-code-2/
LOCATION:PEDi Kampung Lay Out\, PEDi Kampung Lay Out
CATEGORIES:DEFAULT
END:VEVENT
BEGIN:VEVENT
DTSTART;TZID=UTC:20240319T150000
DTEND;TZID=UTC:20240319T160000
DTSTAMP:20260423T052614
CREATED:20240329T142523Z
LAST-MODIFIED:20240329T142523Z
UID:3500-1710860400-1710864000@kglayout.nadi.my
SUMMARY:CREATE QR CODE
DESCRIPTION:
URL:https://kglayout.nadi.my/event/create-qr-code-3/
LOCATION:PEDi Kampung Lay Out\, PEDi Kampung Lay Out
CATEGORIES:DEFAULT
END:VEVENT
BEGIN:VEVENT
DTSTART;TZID=UTC:20240319T150000
DTEND;TZID=UTC:20240319T160000
DTSTAMP:20260423T052614
CREATED:20240329T142523Z
LAST-MODIFIED:20240329T142523Z
UID:3250-1710860400-1710864000@kglayout.nadi.my
SUMMARY:CREATE QR CODE
DESCRIPTION:
URL:https://kglayout.nadi.my/event/create-qr-code/
LOCATION:PEDi Kampung Lay Out\, PEDi Kampung Lay Out
CATEGORIES:DEFAULT
END:VEVENT
BEGIN:VEVENT
DTSTART;TZID=UTC:20240317T150000
DTEND;TZID=UTC:20240317T160000
DTSTAMP:20260423T052614
CREATED:20240329T115248Z
LAST-MODIFIED:20240329T115248Z
UID:3499-1710687600-1710691200@kglayout.nadi.my
SUMMARY:DAFTAR KEDAI SHOPEE
DESCRIPTION:
URL:https://kglayout.nadi.my/event/daftar-kedai-shopee-3/
LOCATION:PEDi Kampung Lay Out\, PEDi Kampung Lay Out
CATEGORIES:DEFAULT
END:VEVENT
BEGIN:VEVENT
DTSTART;TZID=UTC:20240317T150000
DTEND;TZID=UTC:20240317T160000
DTSTAMP:20260423T052614
CREATED:20240329T115248Z
LAST-MODIFIED:20240329T115248Z
UID:3249-1710687600-1710691200@kglayout.nadi.my
SUMMARY:DAFTAR KEDAI SHOPEE
DESCRIPTION:
URL:https://kglayout.nadi.my/event/daftar-kedai-shopee/
LOCATION:PEDi Kampung Lay Out\, PEDi Kampung Lay Out
CATEGORIES:DEFAULT
END:VEVENT
BEGIN:VEVENT
DTSTART;TZID=UTC:20240317T150000
DTEND;TZID=UTC:20240317T160000
DTSTAMP:20260423T052614
CREATED:20240329T115248Z
LAST-MODIFIED:20240329T115248Z
UID:3397-1710687600-1710691200@kglayout.nadi.my
SUMMARY:DAFTAR KEDAI SHOPEE
DESCRIPTION:
URL:https://kglayout.nadi.my/event/daftar-kedai-shopee-2/
LOCATION:PEDi Kampung Lay Out\, PEDi Kampung Lay Out
CATEGORIES:DEFAULT
END:VEVENT
BEGIN:VEVENT
DTSTART;TZID=UTC:20240316T150000
DTEND;TZID=UTC:20240316T160000
DTSTAMP:20260423T052614
CREATED:20240329T115211Z
LAST-MODIFIED:20240329T115211Z
UID:3248-1710601200-1710604800@kglayout.nadi.my
SUMMARY:STEM IOT (STACK CUPS)
DESCRIPTION:
URL:https://kglayout.nadi.my/event/stem-iot-stack-cups/
LOCATION:PEDi Kampung Lay Out\, PEDi Kampung Lay Out
CATEGORIES:DEFAULT
END:VEVENT
BEGIN:VEVENT
DTSTART;TZID=UTC:20240316T150000
DTEND;TZID=UTC:20240316T160000
DTSTAMP:20260423T052614
CREATED:20240329T115211Z
LAST-MODIFIED:20240329T115211Z
UID:3396-1710601200-1710604800@kglayout.nadi.my
SUMMARY:STEM IOT (STACK CUPS)
DESCRIPTION:
URL:https://kglayout.nadi.my/event/stem-iot-stack-cups-2/
LOCATION:PEDi Kampung Lay Out\, PEDi Kampung Lay Out
CATEGORIES:DEFAULT
END:VEVENT
BEGIN:VEVENT
DTSTART;TZID=UTC:20240316T150000
DTEND;TZID=UTC:20240316T160000
DTSTAMP:20260423T052614
CREATED:20240329T115211Z
LAST-MODIFIED:20240329T115211Z
UID:3498-1710601200-1710604800@kglayout.nadi.my
SUMMARY:STEM IOT (STACK CUPS)
DESCRIPTION:
URL:https://kglayout.nadi.my/event/stem-iot-stack-cups-3/
LOCATION:PEDi Kampung Lay Out\, PEDi Kampung Lay Out
CATEGORIES:DEFAULT
END:VEVENT
BEGIN:VEVENT
DTSTART;TZID=UTC:20240315T100000
DTEND;TZID=UTC:20240315T110000
DTSTAMP:20260423T052614
CREATED:20240329T115012Z
LAST-MODIFIED:20240329T115012Z
UID:3247-1710496800-1710500400@kglayout.nadi.my
SUMMARY:DAFTAR PADU
DESCRIPTION:
URL:https://kglayout.nadi.my/event/daftar-padu/
LOCATION:PEDi Kampung Lay Out\, PEDi Kampung Lay Out
CATEGORIES:DEFAULT
END:VEVENT
END:VCALENDAR