BEGIN:VCALENDAR
VERSION:2.0
PRODID:-//NADI Kampung Lay Out - ECPv6.15.13.1//NONSGML v1.0//EN
CALSCALE:GREGORIAN
METHOD:PUBLISH
X-WR-CALNAME:NADI Kampung Lay Out
X-ORIGINAL-URL:https://kglayout.nadi.my
X-WR-CALDESC:Events for NADI Kampung Lay Out
REFRESH-INTERVAL;VALUE=DURATION:PT1H
X-Robots-Tag:noindex
X-PUBLISHED-TTL:PT1H
BEGIN:VTIMEZONE
TZID:UTC
BEGIN:STANDARD
TZOFFSETFROM:+0000
TZOFFSETTO:+0000
TZNAME:UTC
DTSTART:20230101T000000
END:STANDARD
END:VTIMEZONE
BEGIN:VEVENT
DTSTART;TZID=UTC:20240509T150000
DTEND;TZID=UTC:20240509T160000
DTSTAMP:20260422T214555
CREATED:20240516T110404Z
LAST-MODIFIED:20240516T110404Z
UID:3523-1715266800-1715270400@kglayout.nadi.my
SUMMARY:ICT : CREATE GMAIL
DESCRIPTION:
URL:https://kglayout.nadi.my/event/ict-create-gmail-2/
LOCATION:NADI Kg Lay Out\, NADI Kg Lay Out
CATEGORIES:DEFAULT
END:VEVENT
BEGIN:VEVENT
DTSTART;TZID=UTC:20240507T150000
DTEND;TZID=UTC:20240507T160000
DTSTAMP:20260422T214555
CREATED:20240516T110239Z
LAST-MODIFIED:20240516T110239Z
UID:3522-1715094000-1715097600@kglayout.nadi.my
SUMMARY:E PEMBELAJARAN : ONLINE LEARNING (CANVA)
DESCRIPTION:
URL:https://kglayout.nadi.my/event/e-pembelajaran-online-learning-canva-2/
LOCATION:NADI Kg Lay Out\, NADI Kg Lay Out
CATEGORIES:DEFAULT
END:VEVENT
BEGIN:VEVENT
DTSTART;TZID=UTC:20240507T150000
DTEND;TZID=UTC:20240507T160000
DTSTAMP:20260422T214555
CREATED:20240516T110239Z
LAST-MODIFIED:20240516T110239Z
UID:3274-1715094000-1715097600@kglayout.nadi.my
SUMMARY:E PEMBELAJARAN : ONLINE LEARNING (CANVA)
DESCRIPTION:
URL:https://kglayout.nadi.my/event/e-pembelajaran-online-learning-canva/
LOCATION:NADI Kg Lay Out\, NADI Kg Lay Out
CATEGORIES:DEFAULT
END:VEVENT
BEGIN:VEVENT
DTSTART;TZID=UTC:20240505T030000
DTEND;TZID=UTC:20240505T040000
DTSTAMP:20260422T214555
CREATED:20240516T105858Z
LAST-MODIFIED:20240516T105858Z
UID:3521-1714878000-1714881600@kglayout.nadi.my
SUMMARY:KEUSAHAWANAN (TIKTOK SHOP)
DESCRIPTION:
URL:https://kglayout.nadi.my/event/keusahawanan-tiktok-shop-2/
LOCATION:NADI Kg Lay Out\, NADI Kg Lay Out
CATEGORIES:DEFAULT
END:VEVENT
BEGIN:VEVENT
DTSTART;TZID=UTC:20240505T030000
DTEND;TZID=UTC:20240505T040000
DTSTAMP:20260422T214555
CREATED:20240516T105858Z
LAST-MODIFIED:20240516T105858Z
UID:3273-1714878000-1714881600@kglayout.nadi.my
SUMMARY:KEUSAHAWANAN (TIKTOK SHOP)
DESCRIPTION:
URL:https://kglayout.nadi.my/event/keusahawanan-tiktok-shop/
LOCATION:NADI Kg Lay Out\, NADI Kg Lay Out
CATEGORIES:DEFAULT
END:VEVENT
BEGIN:VEVENT
DTSTART;TZID=UTC:20240504T100000
DTEND;TZID=UTC:20240504T110000
DTSTAMP:20260422T214555
CREATED:20240516T105736Z
LAST-MODIFIED:20240516T105736Z
UID:3272-1714816800-1714820400@kglayout.nadi.my
SUMMARY:SOFTSKILL (UJI MINDA)
DESCRIPTION:
URL:https://kglayout.nadi.my/event/softskill-uji-minda/
LOCATION:NADI Kg Lay Out\, NADI Kg Lay Out
CATEGORIES:DEFAULT
END:VEVENT
BEGIN:VEVENT
DTSTART;TZID=UTC:20240504T100000
DTEND;TZID=UTC:20240504T110000
DTSTAMP:20260422T214555
CREATED:20240516T105736Z
LAST-MODIFIED:20240516T105736Z
UID:3520-1714816800-1714820400@kglayout.nadi.my
SUMMARY:SOFTSKILL (UJI MINDA)
DESCRIPTION:
URL:https://kglayout.nadi.my/event/softskill-uji-minda-2/
LOCATION:NADI Kg Lay Out\, NADI Kg Lay Out
CATEGORIES:DEFAULT
END:VEVENT
BEGIN:VEVENT
DTSTART;TZID=UTC:20240423T150000
DTEND;TZID=UTC:20240423T160000
DTSTAMP:20260422T214555
CREATED:20240428T093737Z
LAST-MODIFIED:20240428T093737Z
UID:3271-1713884400-1713888000@kglayout.nadi.my
SUMMARY:QR CODE KEUSAHAWANAN
DESCRIPTION:
URL:https://kglayout.nadi.my/event/qr-code-keusahawanan/
LOCATION:NADI Kg Lay Out\, NADI Kg Lay Out
CATEGORIES:DEFAULT
END:VEVENT
BEGIN:VEVENT
DTSTART;TZID=UTC:20240423T150000
DTEND;TZID=UTC:20240423T160000
DTSTAMP:20260422T214555
CREATED:20240428T093737Z
LAST-MODIFIED:20240428T093737Z
UID:3519-1713884400-1713888000@kglayout.nadi.my
SUMMARY:QR CODE KEUSAHAWANAN
DESCRIPTION:
URL:https://kglayout.nadi.my/event/qr-code-keusahawanan-2/
LOCATION:NADI Kg Lay Out\, NADI Kg Lay Out
CATEGORIES:DEFAULT
END:VEVENT
BEGIN:VEVENT
DTSTART;TZID=UTC:20240422T150000
DTEND;TZID=UTC:20240422T160000
DTSTAMP:20260422T214555
CREATED:20240428T093710Z
LAST-MODIFIED:20240428T093710Z
UID:3270-1713798000-1713801600@kglayout.nadi.my
SUMMARY:STEM IOT
DESCRIPTION:
URL:https://kglayout.nadi.my/event/stem-iot-6/
LOCATION:NADI Kg Lay Out\, NADI Kg Lay Out
CATEGORIES:DEFAULT
END:VEVENT
BEGIN:VEVENT
DTSTART;TZID=UTC:20240422T150000
DTEND;TZID=UTC:20240422T160000
DTSTAMP:20260422T214555
CREATED:20240428T093710Z
LAST-MODIFIED:20240428T093710Z
UID:3518-1713798000-1713801600@kglayout.nadi.my
SUMMARY:STEM IOT
DESCRIPTION:
URL:https://kglayout.nadi.my/event/stem-iot-16/
LOCATION:NADI Kg Lay Out\, NADI Kg Lay Out
CATEGORIES:DEFAULT
END:VEVENT
BEGIN:VEVENT
DTSTART;TZID=UTC:20240421T150000
DTEND;TZID=UTC:20240421T160000
DTSTAMP:20260422T214555
CREATED:20240428T093628Z
LAST-MODIFIED:20240428T093628Z
UID:3517-1713711600-1713715200@kglayout.nadi.my
SUMMARY:MICROSOFT PUBLISHER
DESCRIPTION:
URL:https://kglayout.nadi.my/event/microsoft-publisher-5/
LOCATION:NADI Kg Lay Out\, NADI Kg Lay Out
CATEGORIES:DEFAULT
END:VEVENT
BEGIN:VEVENT
DTSTART;TZID=UTC:20240421T150000
DTEND;TZID=UTC:20240421T160000
DTSTAMP:20260422T214555
CREATED:20240428T093628Z
LAST-MODIFIED:20240428T093628Z
UID:3269-1713711600-1713715200@kglayout.nadi.my
SUMMARY:MICROSOFT PUBLISHER
DESCRIPTION:
URL:https://kglayout.nadi.my/event/microsoft-publisher-2/
LOCATION:NADI Kg Lay Out\, NADI Kg Lay Out
CATEGORIES:DEFAULT
END:VEVENT
BEGIN:VEVENT
DTSTART;TZID=UTC:20240420T100000
DTEND;TZID=UTC:20240420T110000
DTSTAMP:20260422T214555
CREATED:20240428T093558Z
LAST-MODIFIED:20240428T093558Z
UID:3516-1713607200-1713610800@kglayout.nadi.my
SUMMARY:STEM IOT
DESCRIPTION:
URL:https://kglayout.nadi.my/event/stem-iot-15/
LOCATION:NADI Kg Lay Out\, NADI Kg Lay Out
CATEGORIES:DEFAULT
END:VEVENT
BEGIN:VEVENT
DTSTART;TZID=UTC:20240420T100000
DTEND;TZID=UTC:20240420T110000
DTSTAMP:20260422T214555
CREATED:20240428T093558Z
LAST-MODIFIED:20240428T093558Z
UID:3268-1713607200-1713610800@kglayout.nadi.my
SUMMARY:STEM IOT
DESCRIPTION:
URL:https://kglayout.nadi.my/event/stem-iot-5/
LOCATION:NADI Kg Lay Out\, NADI Kg Lay Out
CATEGORIES:DEFAULT
END:VEVENT
BEGIN:VEVENT
DTSTART;TZID=UTC:20240419T100000
DTEND;TZID=UTC:20240419T110000
DTSTAMP:20260422T214555
CREATED:20240428T093452Z
LAST-MODIFIED:20240428T093452Z
UID:3515-1713520800-1713524400@kglayout.nadi.my
SUMMARY:KEUSAHAWANAN (WHATSAPP BUSINESS)
DESCRIPTION:
URL:https://kglayout.nadi.my/event/keusahawanan-whatsapp-business-2/
LOCATION:NADI Kg Lay Out\, NADI Kg Lay Out
CATEGORIES:DEFAULT
END:VEVENT
BEGIN:VEVENT
DTSTART;TZID=UTC:20240419T100000
DTEND;TZID=UTC:20240419T110000
DTSTAMP:20260422T214555
CREATED:20240428T093452Z
LAST-MODIFIED:20240428T093452Z
UID:3267-1713520800-1713524400@kglayout.nadi.my
SUMMARY:KEUSAHAWANAN (WHATSAPP BUSINESS)
DESCRIPTION:
URL:https://kglayout.nadi.my/event/keusahawanan-whatsapp-business/
LOCATION:NADI Kg Lay Out\, NADI Kg Lay Out
CATEGORIES:DEFAULT
END:VEVENT
BEGIN:VEVENT
DTSTART;TZID=UTC:20240417T150000
DTEND;TZID=UTC:20240417T160000
DTSTAMP:20260422T214555
CREATED:20240420T141742Z
LAST-MODIFIED:20240420T141742Z
UID:3265-1713366000-1713369600@kglayout.nadi.my
SUMMARY:ICT KELAS MENGENAL KOMPUTER
DESCRIPTION:
URL:https://kglayout.nadi.my/event/ict-kelas-mengenal-komputer/
LOCATION:NADI KG LAYOUT\, NADI KG LAYOUT
CATEGORIES:DEFAULT
END:VEVENT
BEGIN:VEVENT
DTSTART;TZID=UTC:20240417T150000
DTEND;TZID=UTC:20240417T160000
DTSTAMP:20260422T214555
CREATED:20240420T141742Z
LAST-MODIFIED:20240420T141742Z
UID:3514-1713366000-1713369600@kglayout.nadi.my
SUMMARY:ICT KELAS MENGENAL KOMPUTER
DESCRIPTION:
URL:https://kglayout.nadi.my/event/ict-kelas-mengenal-komputer-2/
LOCATION:NADI KG LAYOUT\, NADI KG LAYOUT
CATEGORIES:DEFAULT
END:VEVENT
BEGIN:VEVENT
DTSTART;TZID=UTC:20240415T150000
DTEND;TZID=UTC:20240415T160000
DTSTAMP:20260422T214555
CREATED:20240420T141636Z
LAST-MODIFIED:20240420T141636Z
UID:3264-1713193200-1713196800@kglayout.nadi.my
SUMMARY:ONLINE LEARNING (BROCHURE CANVA)
DESCRIPTION:
URL:https://kglayout.nadi.my/event/online-learning-brochure-canva/
LOCATION:NADI KG LAYOUT\, NADI KG LAYOUT
CATEGORIES:DEFAULT
END:VEVENT
BEGIN:VEVENT
DTSTART;TZID=UTC:20240415T150000
DTEND;TZID=UTC:20240415T160000
DTSTAMP:20260422T214555
CREATED:20240420T141636Z
LAST-MODIFIED:20240420T141636Z
UID:3513-1713193200-1713196800@kglayout.nadi.my
SUMMARY:ONLINE LEARNING (BROCHURE CANVA)
DESCRIPTION:
URL:https://kglayout.nadi.my/event/online-learning-brochure-canva-2/
LOCATION:NADI KG LAYOUT\, NADI KG LAYOUT
CATEGORIES:DEFAULT
END:VEVENT
BEGIN:VEVENT
DTSTART;TZID=UTC:20240414T150000
DTEND;TZID=UTC:20240414T160000
DTSTAMP:20260422T214555
CREATED:20240420T141051Z
LAST-MODIFIED:20240420T141051Z
UID:3512-1713106800-1713110400@kglayout.nadi.my
SUMMARY:ICT LATIHAN MENAIP
DESCRIPTION:
URL:https://kglayout.nadi.my/event/ict-latihan-menaip-6/
LOCATION:NADI KG LAYOUT\, NADI KG LAYOUT
CATEGORIES:DEFAULT
END:VEVENT
BEGIN:VEVENT
DTSTART;TZID=UTC:20240414T150000
DTEND;TZID=UTC:20240414T160000
DTSTAMP:20260422T214555
CREATED:20240420T141051Z
LAST-MODIFIED:20240420T141051Z
UID:3263-1713106800-1713110400@kglayout.nadi.my
SUMMARY:ICT LATIHAN MENAIP
DESCRIPTION:
URL:https://kglayout.nadi.my/event/ict-latihan-menaip-4/
LOCATION:NADI KG LAYOUT\, NADI KG LAYOUT
CATEGORIES:DEFAULT
END:VEVENT
BEGIN:VEVENT
DTSTART;TZID=UTC:20240409T150000
DTEND;TZID=UTC:20240409T160000
DTSTAMP:20260422T214555
CREATED:20240420T140839Z
LAST-MODIFIED:20240420T140839Z
UID:3511-1712674800-1712678400@kglayout.nadi.my
SUMMARY:EPEMBELAJARAN ONLINE LEARNING (MEWARNA ATAS TALIAN)
DESCRIPTION:
URL:https://kglayout.nadi.my/event/epembelajaran-online-learning-mewarna-atas-talian-2/
LOCATION:NADI KG LAYOUT\, NADI KG LAYOUT
CATEGORIES:DEFAULT
END:VEVENT
BEGIN:VEVENT
DTSTART;TZID=UTC:20240409T150000
DTEND;TZID=UTC:20240409T160000
DTSTAMP:20260422T214555
CREATED:20240420T140839Z
LAST-MODIFIED:20240420T140839Z
UID:3262-1712674800-1712678400@kglayout.nadi.my
SUMMARY:EPEMBELAJARAN ONLINE LEARNING (MEWARNA ATAS TALIAN)
DESCRIPTION:
URL:https://kglayout.nadi.my/event/epembelajaran-online-learning-mewarna-atas-talian/
LOCATION:NADI KG LAYOUT\, NADI KG LAYOUT
CATEGORIES:DEFAULT
END:VEVENT
BEGIN:VEVENT
DTSTART;TZID=UTC:20240408T150000
DTEND;TZID=UTC:20240408T160000
DTSTAMP:20260422T214555
CREATED:20240420T140703Z
LAST-MODIFIED:20240420T140703Z
UID:3510-1712588400-1712592000@kglayout.nadi.my
SUMMARY:RESUME WRITING
DESCRIPTION:
URL:https://kglayout.nadi.my/event/resume-writing-14/
LOCATION:NADI KG LAYOUT\, NADI KG LAYOUT
CATEGORIES:DEFAULT
END:VEVENT
BEGIN:VEVENT
DTSTART;TZID=UTC:20240408T150000
DTEND;TZID=UTC:20240408T160000
DTSTAMP:20260422T214555
CREATED:20240420T140703Z
LAST-MODIFIED:20240420T140703Z
UID:3261-1712588400-1712592000@kglayout.nadi.my
SUMMARY:RESUME WRITING
DESCRIPTION:
URL:https://kglayout.nadi.my/event/resume-writing-7/
LOCATION:NADI KG LAYOUT\, NADI KG LAYOUT
CATEGORIES:DEFAULT
END:VEVENT
BEGIN:VEVENT
DTSTART;TZID=UTC:20240407T150000
DTEND;TZID=UTC:20240407T160000
DTSTAMP:20260422T214555
CREATED:20240420T110308Z
LAST-MODIFIED:20240420T110308Z
UID:3260-1712502000-1712505600@kglayout.nadi.my
SUMMARY:KEUSAHAWANAN (ONLINE BANKING)
DESCRIPTION:
URL:https://kglayout.nadi.my/event/keusahawanan-online-banking-3/
LOCATION:NADI KG LAYOUT\, NADI KG LAYOUT
CATEGORIES:DEFAULT
END:VEVENT
BEGIN:VEVENT
DTSTART;TZID=UTC:20240407T150000
DTEND;TZID=UTC:20240407T160000
DTSTAMP:20260422T214555
CREATED:20240420T110308Z
LAST-MODIFIED:20240420T110308Z
UID:3509-1712502000-1712505600@kglayout.nadi.my
SUMMARY:KEUSAHAWANAN (ONLINE BANKING)
DESCRIPTION:
URL:https://kglayout.nadi.my/event/keusahawanan-online-banking-6/
LOCATION:NADI KG LAYOUT\, NADI KG LAYOUT
CATEGORIES:DEFAULT
END:VEVENT
BEGIN:VEVENT
DTSTART;TZID=UTC:20240406T100000
DTEND;TZID=UTC:20240406T110000
DTSTAMP:20260422T214555
CREATED:20240420T110205Z
LAST-MODIFIED:20240420T110205Z
UID:3259-1712397600-1712401200@kglayout.nadi.my
SUMMARY:UJI MINDA
DESCRIPTION:
URL:https://kglayout.nadi.my/event/uji-minda-3/
LOCATION:NADI KG LAYOUT\, NADI KG LAYOUT
CATEGORIES:DEFAULT
END:VEVENT
END:VCALENDAR