BEGIN:VCALENDAR
VERSION:2.0
PRODID:-//NADI Kampung Lay Out - ECPv6.15.13.1//NONSGML v1.0//EN
CALSCALE:GREGORIAN
METHOD:PUBLISH
X-WR-CALNAME:NADI Kampung Lay Out
X-ORIGINAL-URL:https://kglayout.nadi.my
X-WR-CALDESC:Events for NADI Kampung Lay Out
REFRESH-INTERVAL;VALUE=DURATION:PT1H
X-Robots-Tag:noindex
X-PUBLISHED-TTL:PT1H
BEGIN:VTIMEZONE
TZID:UTC
BEGIN:STANDARD
TZOFFSETFROM:+0000
TZOFFSETTO:+0000
TZNAME:UTC
DTSTART:20230101T000000
END:STANDARD
END:VTIMEZONE
BEGIN:VEVENT
DTSTART;TZID=UTC:20240521T150000
DTEND;TZID=UTC:20240521T160000
DTSTAMP:20260423T043206
CREATED:20240524T111909Z
LAST-MODIFIED:20240524T111909Z
UID:3532-1716303600-1716307200@kglayout.nadi.my
SUMMARY:KEUSAHAWANAN : CREATE ACCOUNT SHOPEE
DESCRIPTION:
URL:https://kglayout.nadi.my/event/keusahawanan-create-account-shopee-2/
LOCATION:NADI Kg Lay Out\, NADI Kg Lay Out
CATEGORIES:DEFAULT
END:VEVENT
BEGIN:VEVENT
DTSTART;TZID=UTC:20240521T150000
DTEND;TZID=UTC:20240521T160000
DTSTAMP:20260423T043206
CREATED:20240524T111909Z
LAST-MODIFIED:20240524T111909Z
UID:3285-1716303600-1716307200@kglayout.nadi.my
SUMMARY:KEUSAHAWANAN : CREATE ACCOUNT SHOPEE
DESCRIPTION:
URL:https://kglayout.nadi.my/event/keusahawanan-create-account-shopee/
LOCATION:NADI Kg Lay Out\, NADI Kg Lay Out
CATEGORIES:DEFAULT
END:VEVENT
BEGIN:VEVENT
DTSTART;TZID=UTC:20240520T150000
DTEND;TZID=UTC:20240520T160000
DTSTAMP:20260423T043206
CREATED:20240524T111807Z
LAST-MODIFIED:20240524T111807Z
UID:3531-1716217200-1716220800@kglayout.nadi.my
SUMMARY:STEM IOT (BOT KAYU KAYUH)
DESCRIPTION:
URL:https://kglayout.nadi.my/event/stem-iot-bot-kayu-kayuh-2/
LOCATION:NADI Kg Lay Out\, NADI Kg Lay Out
CATEGORIES:DEFAULT
END:VEVENT
BEGIN:VEVENT
DTSTART;TZID=UTC:20240520T150000
DTEND;TZID=UTC:20240520T160000
DTSTAMP:20260423T043206
CREATED:20240524T111807Z
LAST-MODIFIED:20240524T111807Z
UID:3284-1716217200-1716220800@kglayout.nadi.my
SUMMARY:STEM IOT (BOT KAYU KAYUH)
DESCRIPTION:
URL:https://kglayout.nadi.my/event/stem-iot-bot-kayu-kayuh/
LOCATION:NADI Kg Lay Out\, NADI Kg Lay Out
CATEGORIES:DEFAULT
END:VEVENT
BEGIN:VEVENT
DTSTART;TZID=UTC:20240519T030000
DTEND;TZID=UTC:20240519T160000
DTSTAMP:20260423T043206
CREATED:20240524T111719Z
LAST-MODIFIED:20240524T111719Z
UID:3283-1716087600-1716134400@kglayout.nadi.my
SUMMARY:ICT MICROSOFT EXCELL
DESCRIPTION:
URL:https://kglayout.nadi.my/event/ict-microsoft-excell/
LOCATION:NADI Kg Lay Out\, NADI Kg Lay Out
CATEGORIES:DEFAULT
END:VEVENT
BEGIN:VEVENT
DTSTART;TZID=UTC:20240519T030000
DTEND;TZID=UTC:20240519T160000
DTSTAMP:20260423T043206
CREATED:20240524T111719Z
LAST-MODIFIED:20240524T111719Z
UID:3530-1716087600-1716134400@kglayout.nadi.my
SUMMARY:ICT MICROSOFT EXCELL
DESCRIPTION:
URL:https://kglayout.nadi.my/event/ict-microsoft-excell-2/
LOCATION:NADI Kg Lay Out\, NADI Kg Lay Out
CATEGORIES:DEFAULT
END:VEVENT
BEGIN:VEVENT
DTSTART;TZID=UTC:20240518T100000
DTEND;TZID=UTC:20240518T110000
DTSTAMP:20260423T043206
CREATED:20240518T094506Z
LAST-MODIFIED:20240518T094506Z
UID:3282-1716026400-1716030000@kglayout.nadi.my
SUMMARY:STEM IOT (CREATE BUBBLES)
DESCRIPTION:
URL:https://kglayout.nadi.my/event/stem-iot-create-bubbles/
LOCATION:NADI Kg Lay Out\, NADI Kg Lay Out
CATEGORIES:DEFAULT
END:VEVENT
BEGIN:VEVENT
DTSTART;TZID=UTC:20240518T100000
DTEND;TZID=UTC:20240518T110000
DTSTAMP:20260423T043206
CREATED:20240518T094506Z
LAST-MODIFIED:20240518T094506Z
UID:3529-1716026400-1716030000@kglayout.nadi.my
SUMMARY:STEM IOT (CREATE BUBBLES)
DESCRIPTION:
URL:https://kglayout.nadi.my/event/stem-iot-create-bubbles-2/
LOCATION:NADI Kg Lay Out\, NADI Kg Lay Out
CATEGORIES:DEFAULT
END:VEVENT
BEGIN:VEVENT
DTSTART;TZID=UTC:20240517T100000
DTEND;TZID=UTC:20240517T110000
DTSTAMP:20260423T043206
CREATED:20240518T092739Z
LAST-MODIFIED:20240518T092739Z
UID:3281-1715940000-1715943600@kglayout.nadi.my
SUMMARY:KEUSAHAWANAN : CANVA
DESCRIPTION:
URL:https://kglayout.nadi.my/event/keusahawanan-canva/
LOCATION:NADI Kg Lay Out\, NADI Kg Lay Out
CATEGORIES:DEFAULT
END:VEVENT
BEGIN:VEVENT
DTSTART;TZID=UTC:20240517T100000
DTEND;TZID=UTC:20240517T110000
DTSTAMP:20260423T043206
CREATED:20240518T092739Z
LAST-MODIFIED:20240518T092739Z
UID:3528-1715940000-1715943600@kglayout.nadi.my
SUMMARY:KEUSAHAWANAN : CANVA
DESCRIPTION:
URL:https://kglayout.nadi.my/event/keusahawanan-canva-2/
LOCATION:NADI Kg Lay Out\, NADI Kg Lay Out
CATEGORIES:DEFAULT
END:VEVENT
BEGIN:VEVENT
DTSTART;TZID=UTC:20240515T150000
DTEND;TZID=UTC:20240515T160000
DTSTAMP:20260423T043206
CREATED:20240518T092617Z
LAST-MODIFIED:20240518T092617Z
UID:3280-1715785200-1715788800@kglayout.nadi.my
SUMMARY:LATIHAN MEWARNA ONLINE
DESCRIPTION:
URL:https://kglayout.nadi.my/event/latihan-mewarna-online-2/
LOCATION:NADI Kg Lay Out\, NADI Kg Lay Out
CATEGORIES:DEFAULT
END:VEVENT
BEGIN:VEVENT
DTSTART;TZID=UTC:20240513T150000
DTEND;TZID=UTC:20240513T160000
DTSTAMP:20260423T043206
CREATED:20240518T092527Z
LAST-MODIFIED:20240518T092527Z
UID:3527-1715612400-1715616000@kglayout.nadi.my
SUMMARY:ONLINE LEARNING (DELIMA DIGITAL ME)
DESCRIPTION:
URL:https://kglayout.nadi.my/event/online-learning-delima-digital-me-2/
LOCATION:NADI Kg Lay Out\, NADI Kg Lay Out
CATEGORIES:DEFAULT
END:VEVENT
BEGIN:VEVENT
DTSTART;TZID=UTC:20240513T150000
DTEND;TZID=UTC:20240513T160000
DTSTAMP:20260423T043206
CREATED:20240518T092527Z
LAST-MODIFIED:20240518T092527Z
UID:3279-1715612400-1715616000@kglayout.nadi.my
SUMMARY:ONLINE LEARNING (DELIMA DIGITAL ME)
DESCRIPTION:
URL:https://kglayout.nadi.my/event/online-learning-delima-digital-me/
LOCATION:NADI Kg Lay Out\, NADI Kg Lay Out
CATEGORIES:DEFAULT
END:VEVENT
BEGIN:VEVENT
DTSTART;TZID=UTC:20240512T150000
DTEND;TZID=UTC:20240512T160000
DTSTAMP:20260423T043206
CREATED:20240518T092401Z
LAST-MODIFIED:20240518T092401Z
UID:3526-1715526000-1715529600@kglayout.nadi.my
SUMMARY:ICT : QUIZZIZ ONLINE
DESCRIPTION:
URL:https://kglayout.nadi.my/event/ict-quizziz-online-7/
LOCATION:NADI Kg Lay Out\, NADI Kg Lay Out
CATEGORIES:DEFAULT
END:VEVENT
BEGIN:VEVENT
DTSTART;TZID=UTC:20240512T150000
DTEND;TZID=UTC:20240512T160000
DTSTAMP:20260423T043206
CREATED:20240518T092401Z
LAST-MODIFIED:20240518T092401Z
UID:3278-1715526000-1715529600@kglayout.nadi.my
SUMMARY:ICT : QUIZZIZ ONLINE
DESCRIPTION:
URL:https://kglayout.nadi.my/event/ict-quizziz-online-3/
LOCATION:NADI Kg Lay Out\, NADI Kg Lay Out
CATEGORIES:DEFAULT
END:VEVENT
BEGIN:VEVENT
DTSTART;TZID=UTC:20240512T150000
DTEND;TZID=UTC:20240512T160000
DTSTAMP:20260423T043206
CREATED:20240518T092400Z
LAST-MODIFIED:20240518T092400Z
UID:3277-1715526000-1715529600@kglayout.nadi.my
SUMMARY:ICT : QUIZZIZ ONLINE
DESCRIPTION:
URL:https://kglayout.nadi.my/event/ict-quizziz-online-2/
LOCATION:NADI Kg Lay Out\, NADI Kg Lay Out
CATEGORIES:DEFAULT
END:VEVENT
BEGIN:VEVENT
DTSTART;TZID=UTC:20240512T150000
DTEND;TZID=UTC:20240512T160000
DTSTAMP:20260423T043206
CREATED:20240518T092400Z
LAST-MODIFIED:20240518T092400Z
UID:3525-1715526000-1715529600@kglayout.nadi.my
SUMMARY:ICT : QUIZZIZ ONLINE
DESCRIPTION:
URL:https://kglayout.nadi.my/event/ict-quizziz-online-6/
LOCATION:NADI Kg Lay Out\, NADI Kg Lay Out
CATEGORIES:DEFAULT
END:VEVENT
BEGIN:VEVENT
DTSTART;TZID=UTC:20240511T100000
DTEND;TZID=UTC:20240511T110000
DTSTAMP:20260423T043206
CREATED:20240516T110544Z
LAST-MODIFIED:20240516T110544Z
UID:3276-1715421600-1715425200@kglayout.nadi.my
SUMMARY:ONLINE LEARNING (WHATSAP WEB)
DESCRIPTION:
URL:https://kglayout.nadi.my/event/online-learning-whatsap-web/
LOCATION:NADI Kg Lay Out\, NADI Kg Lay Out
CATEGORIES:DEFAULT
END:VEVENT
BEGIN:VEVENT
DTSTART;TZID=UTC:20240511T100000
DTEND;TZID=UTC:20240511T110000
DTSTAMP:20260423T043206
CREATED:20240516T110544Z
LAST-MODIFIED:20240516T110544Z
UID:3524-1715421600-1715425200@kglayout.nadi.my
SUMMARY:ONLINE LEARNING (WHATSAP WEB)
DESCRIPTION:
URL:https://kglayout.nadi.my/event/online-learning-whatsap-web-2/
LOCATION:NADI Kg Lay Out\, NADI Kg Lay Out
CATEGORIES:DEFAULT
END:VEVENT
BEGIN:VEVENT
DTSTART;TZID=UTC:20240509T150000
DTEND;TZID=UTC:20240509T160000
DTSTAMP:20260423T043206
CREATED:20240516T110404Z
LAST-MODIFIED:20240516T110404Z
UID:3275-1715266800-1715270400@kglayout.nadi.my
SUMMARY:ICT : CREATE GMAIL
DESCRIPTION:
URL:https://kglayout.nadi.my/event/ict-create-gmail/
LOCATION:NADI Kg Lay Out\, NADI Kg Lay Out
CATEGORIES:DEFAULT
END:VEVENT
BEGIN:VEVENT
DTSTART;TZID=UTC:20240509T150000
DTEND;TZID=UTC:20240509T160000
DTSTAMP:20260423T043206
CREATED:20240516T110404Z
LAST-MODIFIED:20240516T110404Z
UID:3523-1715266800-1715270400@kglayout.nadi.my
SUMMARY:ICT : CREATE GMAIL
DESCRIPTION:
URL:https://kglayout.nadi.my/event/ict-create-gmail-2/
LOCATION:NADI Kg Lay Out\, NADI Kg Lay Out
CATEGORIES:DEFAULT
END:VEVENT
BEGIN:VEVENT
DTSTART;TZID=UTC:20240507T150000
DTEND;TZID=UTC:20240507T160000
DTSTAMP:20260423T043206
CREATED:20240516T110239Z
LAST-MODIFIED:20240516T110239Z
UID:3522-1715094000-1715097600@kglayout.nadi.my
SUMMARY:E PEMBELAJARAN : ONLINE LEARNING (CANVA)
DESCRIPTION:
URL:https://kglayout.nadi.my/event/e-pembelajaran-online-learning-canva-2/
LOCATION:NADI Kg Lay Out\, NADI Kg Lay Out
CATEGORIES:DEFAULT
END:VEVENT
BEGIN:VEVENT
DTSTART;TZID=UTC:20240507T150000
DTEND;TZID=UTC:20240507T160000
DTSTAMP:20260423T043206
CREATED:20240516T110239Z
LAST-MODIFIED:20240516T110239Z
UID:3274-1715094000-1715097600@kglayout.nadi.my
SUMMARY:E PEMBELAJARAN : ONLINE LEARNING (CANVA)
DESCRIPTION:
URL:https://kglayout.nadi.my/event/e-pembelajaran-online-learning-canva/
LOCATION:NADI Kg Lay Out\, NADI Kg Lay Out
CATEGORIES:DEFAULT
END:VEVENT
BEGIN:VEVENT
DTSTART;TZID=UTC:20240505T030000
DTEND;TZID=UTC:20240505T040000
DTSTAMP:20260423T043206
CREATED:20240516T105858Z
LAST-MODIFIED:20240516T105858Z
UID:3521-1714878000-1714881600@kglayout.nadi.my
SUMMARY:KEUSAHAWANAN (TIKTOK SHOP)
DESCRIPTION:
URL:https://kglayout.nadi.my/event/keusahawanan-tiktok-shop-2/
LOCATION:NADI Kg Lay Out\, NADI Kg Lay Out
CATEGORIES:DEFAULT
END:VEVENT
BEGIN:VEVENT
DTSTART;TZID=UTC:20240505T030000
DTEND;TZID=UTC:20240505T040000
DTSTAMP:20260423T043206
CREATED:20240516T105858Z
LAST-MODIFIED:20240516T105858Z
UID:3273-1714878000-1714881600@kglayout.nadi.my
SUMMARY:KEUSAHAWANAN (TIKTOK SHOP)
DESCRIPTION:
URL:https://kglayout.nadi.my/event/keusahawanan-tiktok-shop/
LOCATION:NADI Kg Lay Out\, NADI Kg Lay Out
CATEGORIES:DEFAULT
END:VEVENT
BEGIN:VEVENT
DTSTART;TZID=UTC:20240504T100000
DTEND;TZID=UTC:20240504T110000
DTSTAMP:20260423T043206
CREATED:20240516T105736Z
LAST-MODIFIED:20240516T105736Z
UID:3272-1714816800-1714820400@kglayout.nadi.my
SUMMARY:SOFTSKILL (UJI MINDA)
DESCRIPTION:
URL:https://kglayout.nadi.my/event/softskill-uji-minda/
LOCATION:NADI Kg Lay Out\, NADI Kg Lay Out
CATEGORIES:DEFAULT
END:VEVENT
BEGIN:VEVENT
DTSTART;TZID=UTC:20240504T100000
DTEND;TZID=UTC:20240504T110000
DTSTAMP:20260423T043206
CREATED:20240516T105736Z
LAST-MODIFIED:20240516T105736Z
UID:3520-1714816800-1714820400@kglayout.nadi.my
SUMMARY:SOFTSKILL (UJI MINDA)
DESCRIPTION:
URL:https://kglayout.nadi.my/event/softskill-uji-minda-2/
LOCATION:NADI Kg Lay Out\, NADI Kg Lay Out
CATEGORIES:DEFAULT
END:VEVENT
BEGIN:VEVENT
DTSTART;TZID=UTC:20240423T150000
DTEND;TZID=UTC:20240423T160000
DTSTAMP:20260423T043206
CREATED:20240428T093737Z
LAST-MODIFIED:20240428T093737Z
UID:3271-1713884400-1713888000@kglayout.nadi.my
SUMMARY:QR CODE KEUSAHAWANAN
DESCRIPTION:
URL:https://kglayout.nadi.my/event/qr-code-keusahawanan/
LOCATION:NADI Kg Lay Out\, NADI Kg Lay Out
CATEGORIES:DEFAULT
END:VEVENT
BEGIN:VEVENT
DTSTART;TZID=UTC:20240423T150000
DTEND;TZID=UTC:20240423T160000
DTSTAMP:20260423T043206
CREATED:20240428T093737Z
LAST-MODIFIED:20240428T093737Z
UID:3519-1713884400-1713888000@kglayout.nadi.my
SUMMARY:QR CODE KEUSAHAWANAN
DESCRIPTION:
URL:https://kglayout.nadi.my/event/qr-code-keusahawanan-2/
LOCATION:NADI Kg Lay Out\, NADI Kg Lay Out
CATEGORIES:DEFAULT
END:VEVENT
BEGIN:VEVENT
DTSTART;TZID=UTC:20240422T150000
DTEND;TZID=UTC:20240422T160000
DTSTAMP:20260423T043206
CREATED:20240428T093710Z
LAST-MODIFIED:20240428T093710Z
UID:3270-1713798000-1713801600@kglayout.nadi.my
SUMMARY:STEM IOT
DESCRIPTION:
URL:https://kglayout.nadi.my/event/stem-iot-6/
LOCATION:NADI Kg Lay Out\, NADI Kg Lay Out
CATEGORIES:DEFAULT
END:VEVENT
END:VCALENDAR