BEGIN:VCALENDAR
VERSION:2.0
PRODID:-//NADI Kampung Lay Out - ECPv6.15.13.1//NONSGML v1.0//EN
CALSCALE:GREGORIAN
METHOD:PUBLISH
X-WR-CALNAME:NADI Kampung Lay Out
X-ORIGINAL-URL:https://kglayout.nadi.my
X-WR-CALDESC:Events for NADI Kampung Lay Out
REFRESH-INTERVAL;VALUE=DURATION:PT1H
X-Robots-Tag:noindex
X-PUBLISHED-TTL:PT1H
BEGIN:VTIMEZONE
TZID:UTC
BEGIN:STANDARD
TZOFFSETFROM:+0000
TZOFFSETTO:+0000
TZNAME:UTC
DTSTART:20220101T000000
END:STANDARD
END:VTIMEZONE
BEGIN:VEVENT
DTSTART;TZID=UTC:20230809T103000
DTEND;TZID=UTC:20230809T120000
DTSTAMP:20260423T014012
CREATED:20230817T115153Z
LAST-MODIFIED:20230817T115153Z
UID:3016-1691577000-1691582400@kglayout.nadi.my
SUMMARY:IOT: SMARTFARMING
DESCRIPTION:
URL:https://kglayout.nadi.my/event/iot-smartfarming/
LOCATION:PEDi Kg Layout Tok Saboh\, PEDi Kg Layout Tok Saboh
CATEGORIES:DEFAULT
END:VEVENT
BEGIN:VEVENT
DTSTART;TZID=UTC:20230809T103000
DTEND;TZID=UTC:20230809T120000
DTSTAMP:20260423T014012
CREATED:20230817T115153Z
LAST-MODIFIED:20230817T115153Z
UID:3130-1691577000-1691582400@kglayout.nadi.my
SUMMARY:IOT: SMARTFARMING
DESCRIPTION:
URL:https://kglayout.nadi.my/event/iot-smartfarming-3/
LOCATION:PEDi Kg Layout Tok Saboh\, PEDi Kg Layout Tok Saboh
CATEGORIES:DEFAULT
END:VEVENT
BEGIN:VEVENT
DTSTART;TZID=UTC:20230808T103000
DTEND;TZID=UTC:20230808T120000
DTSTAMP:20260423T014012
CREATED:20230817T115112Z
LAST-MODIFIED:20230817T115112Z
UID:3015-1691490600-1691496000@kglayout.nadi.my
SUMMARY:SOFSKILL: RESUME WRITING
DESCRIPTION:
URL:https://kglayout.nadi.my/event/sofskill-resume-writing/
LOCATION:PEDi Kg Layout Tok Saboh\, PEDi Kg Layout Tok Saboh
CATEGORIES:DEFAULT
END:VEVENT
BEGIN:VEVENT
DTSTART;TZID=UTC:20230808T103000
DTEND;TZID=UTC:20230808T120000
DTSTAMP:20260423T014012
CREATED:20230817T115112Z
LAST-MODIFIED:20230817T115112Z
UID:3129-1691490600-1691496000@kglayout.nadi.my
SUMMARY:SOFSKILL: RESUME WRITING
DESCRIPTION:
URL:https://kglayout.nadi.my/event/sofskill-resume-writing-3/
LOCATION:PEDi Kg Layout Tok Saboh\, PEDi Kg Layout Tok Saboh
CATEGORIES:DEFAULT
END:VEVENT
BEGIN:VEVENT
DTSTART;TZID=UTC:20230808T103000
DTEND;TZID=UTC:20230808T120000
DTSTAMP:20260423T014012
CREATED:20230817T115112Z
LAST-MODIFIED:20230817T115112Z
UID:3089-1691490600-1691496000@kglayout.nadi.my
SUMMARY:SOFSKILL: RESUME WRITING
DESCRIPTION:
URL:https://kglayout.nadi.my/event/sofskill-resume-writing-2/
LOCATION:PEDi Kg Layout Tok Saboh\, PEDi Kg Layout Tok Saboh
CATEGORIES:DEFAULT
END:VEVENT
BEGIN:VEVENT
DTSTART;TZID=UTC:20230807T103000
DTEND;TZID=UTC:20230807T120000
DTSTAMP:20260423T014012
CREATED:20230817T115029Z
LAST-MODIFIED:20230817T115029Z
UID:3128-1691404200-1691409600@kglayout.nadi.my
SUMMARY:KEUSAHAWANAN: TIPS PENGURUSAN SUMBER MANUSIA (TOPIK 2)
DESCRIPTION:
URL:https://kglayout.nadi.my/event/keusahawanan-tips-pengurusan-sumber-manusia-topik-2-3/
LOCATION:PEDi Kg Layout Tok Saboh\, PEDi Kg Layout Tok Saboh
CATEGORIES:DEFAULT
END:VEVENT
BEGIN:VEVENT
DTSTART;TZID=UTC:20230807T103000
DTEND;TZID=UTC:20230807T120000
DTSTAMP:20260423T014012
CREATED:20230817T115029Z
LAST-MODIFIED:20230817T115029Z
UID:3088-1691404200-1691409600@kglayout.nadi.my
SUMMARY:KEUSAHAWANAN: TIPS PENGURUSAN SUMBER MANUSIA (TOPIK 2)
DESCRIPTION:
URL:https://kglayout.nadi.my/event/keusahawanan-tips-pengurusan-sumber-manusia-topik-2-2/
LOCATION:PEDi Kg Layout Tok Saboh\, PEDi Kg Layout Tok Saboh
CATEGORIES:DEFAULT
END:VEVENT
BEGIN:VEVENT
DTSTART;TZID=UTC:20230807T103000
DTEND;TZID=UTC:20230807T120000
DTSTAMP:20260423T014012
CREATED:20230817T115029Z
LAST-MODIFIED:20230817T115029Z
UID:3014-1691404200-1691409600@kglayout.nadi.my
SUMMARY:KEUSAHAWANAN: TIPS PENGURUSAN SUMBER MANUSIA (TOPIK 2)
DESCRIPTION:
URL:https://kglayout.nadi.my/event/keusahawanan-tips-pengurusan-sumber-manusia-topik-2/
LOCATION:PEDi Kg Layout Tok Saboh\, PEDi Kg Layout Tok Saboh
CATEGORIES:DEFAULT
END:VEVENT
BEGIN:VEVENT
DTSTART;TZID=UTC:20230805T093000
DTEND;TZID=UTC:20230805T103000
DTSTAMP:20260423T014012
CREATED:20230817T114951Z
LAST-MODIFIED:20230817T114951Z
UID:3127-1691227800-1691231400@kglayout.nadi.my
SUMMARY:E-PEMBELAJARAN: E-TUISYEN
DESCRIPTION:
URL:https://kglayout.nadi.my/event/e-pembelajaran-e-tuisyen-5/
LOCATION:PEDi Kg Layout Tok Saboh\, PEDi Kg Layout Tok Saboh
CATEGORIES:DEFAULT
END:VEVENT
BEGIN:VEVENT
DTSTART;TZID=UTC:20230805T093000
DTEND;TZID=UTC:20230805T103000
DTSTAMP:20260423T014012
CREATED:20230817T114951Z
LAST-MODIFIED:20230817T114951Z
UID:3087-1691227800-1691231400@kglayout.nadi.my
SUMMARY:E-PEMBELAJARAN: E-TUISYEN
DESCRIPTION:
URL:https://kglayout.nadi.my/event/e-pembelajaran-e-tuisyen-3/
LOCATION:PEDi Kg Layout Tok Saboh\, PEDi Kg Layout Tok Saboh
CATEGORIES:DEFAULT
END:VEVENT
BEGIN:VEVENT
DTSTART;TZID=UTC:20230805T093000
DTEND;TZID=UTC:20230805T103000
DTSTAMP:20260423T014012
CREATED:20230817T114951Z
LAST-MODIFIED:20230817T114951Z
UID:3013-1691227800-1691231400@kglayout.nadi.my
SUMMARY:E-PEMBELAJARAN: E-TUISYEN
DESCRIPTION:
URL:https://kglayout.nadi.my/event/e-pembelajaran-e-tuisyen/
LOCATION:PEDi Kg Layout Tok Saboh\, PEDi Kg Layout Tok Saboh
CATEGORIES:DEFAULT
END:VEVENT
BEGIN:VEVENT
DTSTART;TZID=UTC:20230728T090000
DTEND;TZID=UTC:20230728T120000
DTSTAMP:20260423T014012
CREATED:20230728T173039Z
LAST-MODIFIED:20230728T173039Z
UID:3086-1690534800-1690545600@kglayout.nadi.my
SUMMARY:KEUSAHAWANAN ASAS TIKTOKSHOP 2
DESCRIPTION:
URL:https://kglayout.nadi.my/event/keusahawanan-asas-tiktokshop-2-2/
LOCATION:PEDi Kg Layout Tok Saboh\, PEDi Kg Layout Tok Saboh
CATEGORIES:DEFAULT
END:VEVENT
BEGIN:VEVENT
DTSTART;TZID=UTC:20230728T090000
DTEND;TZID=UTC:20230728T120000
DTSTAMP:20260423T014012
CREATED:20230728T173039Z
LAST-MODIFIED:20230728T173039Z
UID:3012-1690534800-1690545600@kglayout.nadi.my
SUMMARY:KEUSAHAWANAN ASAS TIKTOKSHOP 2
DESCRIPTION:
URL:https://kglayout.nadi.my/event/keusahawanan-asas-tiktokshop-2/
LOCATION:PEDi Kg Layout Tok Saboh\, PEDi Kg Layout Tok Saboh
CATEGORIES:DEFAULT
END:VEVENT
BEGIN:VEVENT
DTSTART;TZID=UTC:20230728T090000
DTEND;TZID=UTC:20230728T120000
DTSTAMP:20260423T014012
CREATED:20230728T173039Z
LAST-MODIFIED:20230728T173039Z
UID:3126-1690534800-1690545600@kglayout.nadi.my
SUMMARY:KEUSAHAWANAN ASAS TIKTOKSHOP 2
DESCRIPTION:
URL:https://kglayout.nadi.my/event/keusahawanan-asas-tiktokshop-2-3/
LOCATION:PEDi Kg Layout Tok Saboh\, PEDi Kg Layout Tok Saboh
CATEGORIES:DEFAULT
END:VEVENT
BEGIN:VEVENT
DTSTART;TZID=UTC:20230727T140000
DTEND;TZID=UTC:20230727T150000
DTSTAMP:20260423T014012
CREATED:20230728T173013Z
LAST-MODIFIED:20230728T173013Z
UID:3085-1690466400-1690470000@kglayout.nadi.my
SUMMARY:STEM IOT PENGENALAN IOT 2
DESCRIPTION:
URL:https://kglayout.nadi.my/event/stem-iot-pengenalan-iot-2-2/
LOCATION:PEDi Kg Layout Tok Saboh\, PEDi Kg Layout Tok Saboh
CATEGORIES:DEFAULT
END:VEVENT
BEGIN:VEVENT
DTSTART;TZID=UTC:20230727T140000
DTEND;TZID=UTC:20230727T150000
DTSTAMP:20260423T014012
CREATED:20230728T173013Z
LAST-MODIFIED:20230728T173013Z
UID:3011-1690466400-1690470000@kglayout.nadi.my
SUMMARY:STEM IOT PENGENALAN IOT 2
DESCRIPTION:
URL:https://kglayout.nadi.my/event/stem-iot-pengenalan-iot-2/
LOCATION:PEDi Kg Layout Tok Saboh\, PEDi Kg Layout Tok Saboh
CATEGORIES:DEFAULT
END:VEVENT
BEGIN:VEVENT
DTSTART;TZID=UTC:20230727T140000
DTEND;TZID=UTC:20230727T150000
DTSTAMP:20260423T014012
CREATED:20230728T173013Z
LAST-MODIFIED:20230728T173013Z
UID:3125-1690466400-1690470000@kglayout.nadi.my
SUMMARY:STEM IOT PENGENALAN IOT 2
DESCRIPTION:
URL:https://kglayout.nadi.my/event/stem-iot-pengenalan-iot-2-3/
LOCATION:PEDi Kg Layout Tok Saboh\, PEDi Kg Layout Tok Saboh
CATEGORIES:DEFAULT
END:VEVENT
BEGIN:VEVENT
DTSTART;TZID=UTC:20230722T093000
DTEND;TZID=UTC:20230722T103000
DTSTAMP:20260423T014012
CREATED:20230728T172919Z
LAST-MODIFIED:20230728T172919Z
UID:3010-1690018200-1690021800@kglayout.nadi.my
SUMMARY:QUIZIZZ (KUIZ MATEMATIK)
DESCRIPTION:
URL:https://kglayout.nadi.my/event/quizizz-kuiz-matematik/
LOCATION:PEDi Kg Layout Tok Saboh\, PEDi Kg Layout Tok Saboh
CATEGORIES:DEFAULT
END:VEVENT
BEGIN:VEVENT
DTSTART;TZID=UTC:20230722T093000
DTEND;TZID=UTC:20230722T103000
DTSTAMP:20260423T014012
CREATED:20230728T172919Z
LAST-MODIFIED:20230728T172919Z
UID:3124-1690018200-1690021800@kglayout.nadi.my
SUMMARY:QUIZIZZ (KUIZ MATEMATIK)
DESCRIPTION:
URL:https://kglayout.nadi.my/event/quizizz-kuiz-matematik-3/
LOCATION:PEDi Kg Layout Tok Saboh\, PEDi Kg Layout Tok Saboh
CATEGORIES:DEFAULT
END:VEVENT
BEGIN:VEVENT
DTSTART;TZID=UTC:20230722T093000
DTEND;TZID=UTC:20230722T103000
DTSTAMP:20260423T014012
CREATED:20230728T172919Z
LAST-MODIFIED:20230728T172919Z
UID:3084-1690018200-1690021800@kglayout.nadi.my
SUMMARY:QUIZIZZ (KUIZ MATEMATIK)
DESCRIPTION:
URL:https://kglayout.nadi.my/event/quizizz-kuiz-matematik-2/
LOCATION:PEDi Kg Layout Tok Saboh\, PEDi Kg Layout Tok Saboh
CATEGORIES:DEFAULT
END:VEVENT
BEGIN:VEVENT
DTSTART;TZID=UTC:20230721T090000
DTEND;TZID=UTC:20230721T120000
DTSTAMP:20260423T014012
CREATED:20230728T172029Z
LAST-MODIFIED:20230728T172029Z
UID:3123-1689930000-1689940800@kglayout.nadi.my
SUMMARY:KEUSAHAWANAN CONTENT TIKTOK
DESCRIPTION:
URL:https://kglayout.nadi.my/event/keusahawanan-content-tiktok-3/
LOCATION:PEDi Kg Layout Tok Saboh\, PEDi Kg Layout Tok Saboh
CATEGORIES:DEFAULT
END:VEVENT
BEGIN:VEVENT
DTSTART;TZID=UTC:20230721T090000
DTEND;TZID=UTC:20230721T120000
DTSTAMP:20260423T014012
CREATED:20230728T172029Z
LAST-MODIFIED:20230728T172029Z
UID:3083-1689930000-1689940800@kglayout.nadi.my
SUMMARY:KEUSAHAWANAN CONTENT TIKTOK
DESCRIPTION:
URL:https://kglayout.nadi.my/event/keusahawanan-content-tiktok-2/
LOCATION:PEDi Kg Layout Tok Saboh\, PEDi Kg Layout Tok Saboh
CATEGORIES:DEFAULT
END:VEVENT
BEGIN:VEVENT
DTSTART;TZID=UTC:20230721T090000
DTEND;TZID=UTC:20230721T120000
DTSTAMP:20260423T014012
CREATED:20230728T172029Z
LAST-MODIFIED:20230728T172029Z
UID:3009-1689930000-1689940800@kglayout.nadi.my
SUMMARY:KEUSAHAWANAN CONTENT TIKTOK
DESCRIPTION:
URL:https://kglayout.nadi.my/event/keusahawanan-content-tiktok/
LOCATION:PEDi Kg Layout Tok Saboh\, PEDi Kg Layout Tok Saboh
CATEGORIES:DEFAULT
END:VEVENT
BEGIN:VEVENT
DTSTART;TZID=UTC:20230718T110000
DTEND;TZID=UTC:20230718T123000
DTSTAMP:20260423T014012
CREATED:20230728T171956Z
LAST-MODIFIED:20230728T171956Z
UID:3122-1689678000-1689683400@kglayout.nadi.my
SUMMARY:SOFTSKILL LATIHAN MENAIP
DESCRIPTION:
URL:https://kglayout.nadi.my/event/softskill-latihan-menaip-3/
LOCATION:PEDi Kg Layout Tok Saboh\, PEDi Kg Layout Tok Saboh
CATEGORIES:DEFAULT
END:VEVENT
BEGIN:VEVENT
DTSTART;TZID=UTC:20230718T110000
DTEND;TZID=UTC:20230718T123000
DTSTAMP:20260423T014012
CREATED:20230728T171956Z
LAST-MODIFIED:20230728T171956Z
UID:3082-1689678000-1689683400@kglayout.nadi.my
SUMMARY:SOFTSKILL LATIHAN MENAIP
DESCRIPTION:
URL:https://kglayout.nadi.my/event/softskill-latihan-menaip-2/
LOCATION:PEDi Kg Layout Tok Saboh\, PEDi Kg Layout Tok Saboh
CATEGORIES:DEFAULT
END:VEVENT
BEGIN:VEVENT
DTSTART;TZID=UTC:20230718T110000
DTEND;TZID=UTC:20230718T123000
DTSTAMP:20260423T014012
CREATED:20230728T171956Z
LAST-MODIFIED:20230728T171956Z
UID:3008-1689678000-1689683400@kglayout.nadi.my
SUMMARY:SOFTSKILL LATIHAN MENAIP
DESCRIPTION:
URL:https://kglayout.nadi.my/event/softskill-latihan-menaip/
LOCATION:PEDi Kg Layout Tok Saboh\, PEDi Kg Layout Tok Saboh
CATEGORIES:DEFAULT
END:VEVENT
BEGIN:VEVENT
DTSTART;TZID=UTC:20230716T100000
DTEND;TZID=UTC:20230716T120000
DTSTAMP:20260423T014012
CREATED:20230728T171925Z
LAST-MODIFIED:20230728T171925Z
UID:3081-1689501600-1689508800@kglayout.nadi.my
SUMMARY:SOFTSKILL RESUME WRITING
DESCRIPTION:
URL:https://kglayout.nadi.my/event/softskill-resume-writing-3/
LOCATION:PEDi Kg Layout Tok Saboh\, PEDi Kg Layout Tok Saboh
CATEGORIES:DEFAULT
END:VEVENT
BEGIN:VEVENT
DTSTART;TZID=UTC:20230716T100000
DTEND;TZID=UTC:20230716T120000
DTSTAMP:20260423T014012
CREATED:20230728T171925Z
LAST-MODIFIED:20230728T171925Z
UID:3007-1689501600-1689508800@kglayout.nadi.my
SUMMARY:SOFTSKILL RESUME WRITING
DESCRIPTION:
URL:https://kglayout.nadi.my/event/softskill-resume-writing/
LOCATION:PEDi Kg Layout Tok Saboh\, PEDi Kg Layout Tok Saboh
CATEGORIES:DEFAULT
END:VEVENT
BEGIN:VEVENT
DTSTART;TZID=UTC:20230716T100000
DTEND;TZID=UTC:20230716T120000
DTSTAMP:20260423T014012
CREATED:20230728T171925Z
LAST-MODIFIED:20230728T171925Z
UID:3121-1689501600-1689508800@kglayout.nadi.my
SUMMARY:SOFTSKILL RESUME WRITING
DESCRIPTION:
URL:https://kglayout.nadi.my/event/softskill-resume-writing-5/
LOCATION:PEDi Kg Layout Tok Saboh\, PEDi Kg Layout Tok Saboh
CATEGORIES:DEFAULT
END:VEVENT
BEGIN:VEVENT
DTSTART;TZID=UTC:20230715T093000
DTEND;TZID=UTC:20230715T103000
DTSTAMP:20260423T014012
CREATED:20230721T113543Z
LAST-MODIFIED:20230721T113543Z
UID:3080-1689413400-1689417000@kglayout.nadi.my
SUMMARY:E-PEMBELAJARAN (KUIZ ICT)
DESCRIPTION:
URL:https://kglayout.nadi.my/event/e-pembelajaran-kuiz-ict-2/
LOCATION:PEDi Kg Layout Tok Saboh\, PEDi Kg Layout Tok Saboh
CATEGORIES:DEFAULT
END:VEVENT
END:VCALENDAR