BEGIN:VCALENDAR
VERSION:2.0
PRODID:-//NADI Kampung Lay Out - ECPv6.15.13.1//NONSGML v1.0//EN
CALSCALE:GREGORIAN
METHOD:PUBLISH
X-WR-CALNAME:NADI Kampung Lay Out
X-ORIGINAL-URL:https://kglayout.nadi.my
X-WR-CALDESC:Events for NADI Kampung Lay Out
REFRESH-INTERVAL;VALUE=DURATION:PT1H
X-Robots-Tag:noindex
X-PUBLISHED-TTL:PT1H
BEGIN:VTIMEZONE
TZID:UTC
BEGIN:STANDARD
TZOFFSETFROM:+0000
TZOFFSETTO:+0000
TZNAME:UTC
DTSTART:20220101T000000
END:STANDARD
END:VTIMEZONE
BEGIN:VEVENT
DTSTART;TZID=UTC:20230902T100000
DTEND;TZID=UTC:20230902T110000
DTSTAMP:20260421T194350
CREATED:20230918T165440Z
LAST-MODIFIED:20230918T165440Z
UID:3102-1693648800-1693652400@kglayout.nadi.my
SUMMARY:ICT: SUBJEK PERSEKOLAHAN
DESCRIPTION:
URL:https://kglayout.nadi.my/event/ict-subjek-persekolahan-7/
LOCATION:PEDi Kg Layout Tok Saboh\, PEDi Kg Layout Tok Saboh
CATEGORIES:DEFAULT
END:VEVENT
BEGIN:VEVENT
DTSTART;TZID=UTC:20230902T100000
DTEND;TZID=UTC:20230902T110000
DTSTAMP:20260421T194350
CREATED:20230918T165440Z
LAST-MODIFIED:20230918T165440Z
UID:3028-1693648800-1693652400@kglayout.nadi.my
SUMMARY:ICT: SUBJEK PERSEKOLAHAN
DESCRIPTION:
URL:https://kglayout.nadi.my/event/ict-subjek-persekolahan-4/
LOCATION:PEDi Kg Layout Tok Saboh\, PEDi Kg Layout Tok Saboh
CATEGORIES:DEFAULT
END:VEVENT
BEGIN:VEVENT
DTSTART;TZID=UTC:20230902T100000
DTEND;TZID=UTC:20230902T110000
DTSTAMP:20260421T194350
CREATED:20230918T165440Z
LAST-MODIFIED:20230918T165440Z
UID:3142-1693648800-1693652400@kglayout.nadi.my
SUMMARY:ICT: SUBJEK PERSEKOLAHAN
DESCRIPTION:
URL:https://kglayout.nadi.my/event/ict-subjek-persekolahan-9/
LOCATION:PEDi Kg Layout Tok Saboh\, PEDi Kg Layout Tok Saboh
CATEGORIES:DEFAULT
END:VEVENT
BEGIN:VEVENT
DTSTART;TZID=UTC:20230829T103000
DTEND;TZID=UTC:20230829T120000
DTSTAMP:20260421T194350
CREATED:20230827T110456Z
LAST-MODIFIED:20230827T110456Z
UID:3291-1693305000-1693310400@kglayout.nadi.my
SUMMARY:KEUSAHAWANAN: MINDSET USAHAWAN
DESCRIPTION:
URL:https://kglayout.nadi.my/event/keusahawanan-mindset-usahawan-4/
LOCATION:PEDi Kg Layout Tok Saboh\, PEDi Kg Layout Tok Saboh
CATEGORIES:DEFAULT
END:VEVENT
BEGIN:VEVENT
DTSTART;TZID=UTC:20230829T103000
DTEND;TZID=UTC:20230829T120000
DTSTAMP:20260421T194350
CREATED:20230827T110456Z
LAST-MODIFIED:20230827T110456Z
UID:3101-1693305000-1693310400@kglayout.nadi.my
SUMMARY:KEUSAHAWANAN: MINDSET USAHAWAN
DESCRIPTION:
URL:https://kglayout.nadi.my/event/keusahawanan-mindset-usahawan-2/
LOCATION:PEDi Kg Layout Tok Saboh\, PEDi Kg Layout Tok Saboh
CATEGORIES:DEFAULT
END:VEVENT
BEGIN:VEVENT
DTSTART;TZID=UTC:20230829T103000
DTEND;TZID=UTC:20230829T120000
DTSTAMP:20260421T194350
CREATED:20230827T110456Z
LAST-MODIFIED:20230827T110456Z
UID:3027-1693305000-1693310400@kglayout.nadi.my
SUMMARY:KEUSAHAWANAN: MINDSET USAHAWAN
DESCRIPTION:
URL:https://kglayout.nadi.my/event/keusahawanan-mindset-usahawan/
LOCATION:PEDi Kg Layout Tok Saboh\, PEDi Kg Layout Tok Saboh
CATEGORIES:DEFAULT
END:VEVENT
BEGIN:VEVENT
DTSTART;TZID=UTC:20230829T103000
DTEND;TZID=UTC:20230829T120000
DTSTAMP:20260421T194350
CREATED:20230827T110456Z
LAST-MODIFIED:20230827T110456Z
UID:3141-1693305000-1693310400@kglayout.nadi.my
SUMMARY:KEUSAHAWANAN: MINDSET USAHAWAN
DESCRIPTION:
URL:https://kglayout.nadi.my/event/keusahawanan-mindset-usahawan-3/
LOCATION:PEDi Kg Layout Tok Saboh\, PEDi Kg Layout Tok Saboh
CATEGORIES:DEFAULT
END:VEVENT
BEGIN:VEVENT
DTSTART;TZID=UTC:20230827T140000
DTEND;TZID=UTC:20230827T150000
DTSTAMP:20260421T194350
CREATED:20230827T110426Z
LAST-MODIFIED:20230827T110426Z
UID:3026-1693144800-1693148400@kglayout.nadi.my
SUMMARY:IOT: ROCKET PAPERS
DESCRIPTION:
URL:https://kglayout.nadi.my/event/iot-rocket-papers/
LOCATION:PEDi Kg Layout Tok Saboh\, PEDi Kg Layout Tok Saboh
CATEGORIES:DEFAULT
END:VEVENT
BEGIN:VEVENT
DTSTART;TZID=UTC:20230827T140000
DTEND;TZID=UTC:20230827T150000
DTSTAMP:20260421T194350
CREATED:20230827T110426Z
LAST-MODIFIED:20230827T110426Z
UID:3140-1693144800-1693148400@kglayout.nadi.my
SUMMARY:IOT: ROCKET PAPERS
DESCRIPTION:
URL:https://kglayout.nadi.my/event/iot-rocket-papers-3/
LOCATION:PEDi Kg Layout Tok Saboh\, PEDi Kg Layout Tok Saboh
CATEGORIES:DEFAULT
END:VEVENT
BEGIN:VEVENT
DTSTART;TZID=UTC:20230827T140000
DTEND;TZID=UTC:20230827T150000
DTSTAMP:20260421T194350
CREATED:20230827T110426Z
LAST-MODIFIED:20230827T110426Z
UID:3290-1693144800-1693148400@kglayout.nadi.my
SUMMARY:IOT: ROCKET PAPERS
DESCRIPTION:
URL:https://kglayout.nadi.my/event/iot-rocket-papers-4/
LOCATION:PEDi Kg Layout Tok Saboh\, PEDi Kg Layout Tok Saboh
CATEGORIES:DEFAULT
END:VEVENT
BEGIN:VEVENT
DTSTART;TZID=UTC:20230827T140000
DTEND;TZID=UTC:20230827T150000
DTSTAMP:20260421T194350
CREATED:20230827T110426Z
LAST-MODIFIED:20230827T110426Z
UID:3100-1693144800-1693148400@kglayout.nadi.my
SUMMARY:IOT: ROCKET PAPERS
DESCRIPTION:
URL:https://kglayout.nadi.my/event/iot-rocket-papers-2/
LOCATION:PEDi Kg Layout Tok Saboh\, PEDi Kg Layout Tok Saboh
CATEGORIES:DEFAULT
END:VEVENT
BEGIN:VEVENT
DTSTART;TZID=UTC:20230826T093000
DTEND;TZID=UTC:20230826T103000
DTSTAMP:20260421T194350
CREATED:20230827T110356Z
LAST-MODIFIED:20230827T110356Z
UID:3139-1693042200-1693045800@kglayout.nadi.my
SUMMARY:E-PEMBELAJARAN: E-TUISYEN (26 OGOS 2023)
DESCRIPTION:
URL:https://kglayout.nadi.my/event/e-pembelajaran-e-tuisyen-26-ogos-2023-3/
LOCATION:PEDi Kg Layout Tok Saboh\, PEDi Kg Layout Tok Saboh
CATEGORIES:DEFAULT
END:VEVENT
BEGIN:VEVENT
DTSTART;TZID=UTC:20230826T093000
DTEND;TZID=UTC:20230826T103000
DTSTAMP:20260421T194350
CREATED:20230827T110356Z
LAST-MODIFIED:20230827T110356Z
UID:3289-1693042200-1693045800@kglayout.nadi.my
SUMMARY:E-PEMBELAJARAN: E-TUISYEN (26 OGOS 2023)
DESCRIPTION:
URL:https://kglayout.nadi.my/event/e-pembelajaran-e-tuisyen-26-ogos-2023-4/
LOCATION:PEDi Kg Layout Tok Saboh\, PEDi Kg Layout Tok Saboh
CATEGORIES:DEFAULT
END:VEVENT
BEGIN:VEVENT
DTSTART;TZID=UTC:20230826T093000
DTEND;TZID=UTC:20230826T103000
DTSTAMP:20260421T194350
CREATED:20230827T110356Z
LAST-MODIFIED:20230827T110356Z
UID:3099-1693042200-1693045800@kglayout.nadi.my
SUMMARY:E-PEMBELAJARAN: E-TUISYEN (26 OGOS 2023)
DESCRIPTION:
URL:https://kglayout.nadi.my/event/e-pembelajaran-e-tuisyen-26-ogos-2023-2/
LOCATION:PEDi Kg Layout Tok Saboh\, PEDi Kg Layout Tok Saboh
CATEGORIES:DEFAULT
END:VEVENT
BEGIN:VEVENT
DTSTART;TZID=UTC:20230826T093000
DTEND;TZID=UTC:20230826T103000
DTSTAMP:20260421T194350
CREATED:20230827T110356Z
LAST-MODIFIED:20230827T110356Z
UID:3025-1693042200-1693045800@kglayout.nadi.my
SUMMARY:E-PEMBELAJARAN: E-TUISYEN (26 OGOS 2023)
DESCRIPTION:
URL:https://kglayout.nadi.my/event/e-pembelajaran-e-tuisyen-26-ogos-2023/
LOCATION:PEDi Kg Layout Tok Saboh\, PEDi Kg Layout Tok Saboh
CATEGORIES:DEFAULT
END:VEVENT
BEGIN:VEVENT
DTSTART;TZID=UTC:20230824T140000
DTEND;TZID=UTC:20230824T150000
DTSTAMP:20260421T194350
CREATED:20230827T110232Z
LAST-MODIFIED:20230827T110232Z
UID:3138-1692885600-1692889200@kglayout.nadi.my
SUMMARY:ICT: KUIZ MERDEKA
DESCRIPTION:
URL:https://kglayout.nadi.my/event/ict-kuiz-merdeka-3/
LOCATION:PEDi Kg Layout Tok Saboh\, PEDi Kg Layout Tok Saboh
CATEGORIES:DEFAULT
END:VEVENT
BEGIN:VEVENT
DTSTART;TZID=UTC:20230824T140000
DTEND;TZID=UTC:20230824T150000
DTSTAMP:20260421T194350
CREATED:20230827T110232Z
LAST-MODIFIED:20230827T110232Z
UID:3098-1692885600-1692889200@kglayout.nadi.my
SUMMARY:ICT: KUIZ MERDEKA
DESCRIPTION:
URL:https://kglayout.nadi.my/event/ict-kuiz-merdeka-2/
LOCATION:PEDi Kg Layout Tok Saboh\, PEDi Kg Layout Tok Saboh
CATEGORIES:DEFAULT
END:VEVENT
BEGIN:VEVENT
DTSTART;TZID=UTC:20230824T140000
DTEND;TZID=UTC:20230824T150000
DTSTAMP:20260421T194350
CREATED:20230827T110232Z
LAST-MODIFIED:20230827T110232Z
UID:3024-1692885600-1692889200@kglayout.nadi.my
SUMMARY:ICT: KUIZ MERDEKA
DESCRIPTION:
URL:https://kglayout.nadi.my/event/ict-kuiz-merdeka/
LOCATION:PEDi Kg Layout Tok Saboh\, PEDi Kg Layout Tok Saboh
CATEGORIES:DEFAULT
END:VEVENT
BEGIN:VEVENT
DTSTART;TZID=UTC:20230823T103000
DTEND;TZID=UTC:20230823T120000
DTSTAMP:20260421T194350
CREATED:20230827T110129Z
LAST-MODIFIED:20230827T110129Z
UID:3097-1692786600-1692792000@kglayout.nadi.my
SUMMARY:KEUSAHAWANAN: PENGURUSAN KEWANGAN PERNIAGAAN (TOPIK 3)
DESCRIPTION:
URL:https://kglayout.nadi.my/event/keusahawanan-pengurusan-kewangan-perniagaan-topik-3-2/
LOCATION:PEDi Kg Layout Tok Saboh\, PEDi Kg Layout Tok Saboh
CATEGORIES:DEFAULT
END:VEVENT
BEGIN:VEVENT
DTSTART;TZID=UTC:20230823T103000
DTEND;TZID=UTC:20230823T120000
DTSTAMP:20260421T194350
CREATED:20230827T110129Z
LAST-MODIFIED:20230827T110129Z
UID:3023-1692786600-1692792000@kglayout.nadi.my
SUMMARY:KEUSAHAWANAN: PENGURUSAN KEWANGAN PERNIAGAAN (TOPIK 3)
DESCRIPTION:
URL:https://kglayout.nadi.my/event/keusahawanan-pengurusan-kewangan-perniagaan-topik-3/
LOCATION:PEDi Kg Layout Tok Saboh\, PEDi Kg Layout Tok Saboh
CATEGORIES:DEFAULT
END:VEVENT
BEGIN:VEVENT
DTSTART;TZID=UTC:20230823T103000
DTEND;TZID=UTC:20230823T120000
DTSTAMP:20260421T194350
CREATED:20230827T110129Z
LAST-MODIFIED:20230827T110129Z
UID:3137-1692786600-1692792000@kglayout.nadi.my
SUMMARY:KEUSAHAWANAN: PENGURUSAN KEWANGAN PERNIAGAAN (TOPIK 3)
DESCRIPTION:
URL:https://kglayout.nadi.my/event/keusahawanan-pengurusan-kewangan-perniagaan-topik-3-3/
LOCATION:PEDi Kg Layout Tok Saboh\, PEDi Kg Layout Tok Saboh
CATEGORIES:DEFAULT
END:VEVENT
BEGIN:VEVENT
DTSTART;TZID=UTC:20230820T140000
DTEND;TZID=UTC:20230820T150000
DTSTAMP:20260421T194350
CREATED:20230824T154232Z
LAST-MODIFIED:20230824T154232Z
UID:3096-1692540000-1692543600@kglayout.nadi.my
SUMMARY:IOT: PENGENALAN KEPADA STEM IOT 1
DESCRIPTION:
URL:https://kglayout.nadi.my/event/iot-pengenalan-kepada-stem-iot-1-2/
LOCATION:PEDi Kg Layout Tok Saboh\, PEDi Kg Layout Tok Saboh
CATEGORIES:DEFAULT
END:VEVENT
BEGIN:VEVENT
DTSTART;TZID=UTC:20230820T140000
DTEND;TZID=UTC:20230820T150000
DTSTAMP:20260421T194350
CREATED:20230824T154232Z
LAST-MODIFIED:20230824T154232Z
UID:3022-1692540000-1692543600@kglayout.nadi.my
SUMMARY:IOT: PENGENALAN KEPADA STEM IOT 1
DESCRIPTION:
URL:https://kglayout.nadi.my/event/iot-pengenalan-kepada-stem-iot-1/
LOCATION:PEDi Kg Layout Tok Saboh\, PEDi Kg Layout Tok Saboh
CATEGORIES:DEFAULT
END:VEVENT
BEGIN:VEVENT
DTSTART;TZID=UTC:20230820T140000
DTEND;TZID=UTC:20230820T150000
DTSTAMP:20260421T194350
CREATED:20230824T154232Z
LAST-MODIFIED:20230824T154232Z
UID:3136-1692540000-1692543600@kglayout.nadi.my
SUMMARY:IOT: PENGENALAN KEPADA STEM IOT 1
DESCRIPTION:
URL:https://kglayout.nadi.my/event/iot-pengenalan-kepada-stem-iot-1-3/
LOCATION:PEDi Kg Layout Tok Saboh\, PEDi Kg Layout Tok Saboh
CATEGORIES:DEFAULT
END:VEVENT
BEGIN:VEVENT
DTSTART;TZID=UTC:20230819T093000
DTEND;TZID=UTC:20230819T103000
DTSTAMP:20260421T194350
CREATED:20230824T154142Z
LAST-MODIFIED:20230824T154142Z
UID:3095-1692437400-1692441000@kglayout.nadi.my
SUMMARY:E-PEMBELAJARAN: E-TUISYEN
DESCRIPTION:
URL:https://kglayout.nadi.my/event/e-pembelajaran-e-tuisyen-4/
LOCATION:PEDi Kg Layout Tok Saboh\, PEDi Kg Layout Tok Saboh
CATEGORIES:DEFAULT
END:VEVENT
BEGIN:VEVENT
DTSTART;TZID=UTC:20230819T093000
DTEND;TZID=UTC:20230819T103000
DTSTAMP:20260421T194350
CREATED:20230824T154142Z
LAST-MODIFIED:20230824T154142Z
UID:3021-1692437400-1692441000@kglayout.nadi.my
SUMMARY:E-PEMBELAJARAN: E-TUISYEN
DESCRIPTION:
URL:https://kglayout.nadi.my/event/e-pembelajaran-e-tuisyen-2/
LOCATION:PEDi Kg Layout Tok Saboh\, PEDi Kg Layout Tok Saboh
CATEGORIES:DEFAULT
END:VEVENT
BEGIN:VEVENT
DTSTART;TZID=UTC:20230819T093000
DTEND;TZID=UTC:20230819T103000
DTSTAMP:20260421T194350
CREATED:20230824T154142Z
LAST-MODIFIED:20230824T154142Z
UID:3135-1692437400-1692441000@kglayout.nadi.my
SUMMARY:E-PEMBELAJARAN: E-TUISYEN
DESCRIPTION:
URL:https://kglayout.nadi.my/event/e-pembelajaran-e-tuisyen-6/
LOCATION:PEDi Kg Layout Tok Saboh\, PEDi Kg Layout Tok Saboh
CATEGORIES:DEFAULT
END:VEVENT
BEGIN:VEVENT
DTSTART;TZID=UTC:20230816T103000
DTEND;TZID=UTC:20230816T120000
DTSTAMP:20260421T194350
CREATED:20230824T154100Z
LAST-MODIFIED:20230824T154100Z
UID:3134-1692181800-1692187200@kglayout.nadi.my
SUMMARY:SOFSKILL: INTERVIEW SKILLS
DESCRIPTION:
URL:https://kglayout.nadi.my/event/sofskill-interview-skills-5/
LOCATION:PEDi Kg Layout Tok Saboh\, PEDi Kg Layout Tok Saboh
CATEGORIES:DEFAULT
END:VEVENT
BEGIN:VEVENT
DTSTART;TZID=UTC:20230816T103000
DTEND;TZID=UTC:20230816T120000
DTSTAMP:20260421T194350
CREATED:20230824T154100Z
LAST-MODIFIED:20230824T154100Z
UID:3094-1692181800-1692187200@kglayout.nadi.my
SUMMARY:SOFSKILL: INTERVIEW SKILLS
DESCRIPTION:
URL:https://kglayout.nadi.my/event/sofskill-interview-skills-3/
LOCATION:PEDi Kg Layout Tok Saboh\, PEDi Kg Layout Tok Saboh
CATEGORIES:DEFAULT
END:VEVENT
BEGIN:VEVENT
DTSTART;TZID=UTC:20230816T103000
DTEND;TZID=UTC:20230816T120000
DTSTAMP:20260421T194350
CREATED:20230824T154100Z
LAST-MODIFIED:20230824T154100Z
UID:3020-1692181800-1692187200@kglayout.nadi.my
SUMMARY:SOFSKILL: INTERVIEW SKILLS
DESCRIPTION:
URL:https://kglayout.nadi.my/event/sofskill-interview-skills/
LOCATION:PEDi Kg Layout Tok Saboh\, PEDi Kg Layout Tok Saboh
CATEGORIES:DEFAULT
END:VEVENT
END:VCALENDAR