BEGIN:VCALENDAR
VERSION:2.0
PRODID:-//NADI Kampung Lay Out - ECPv6.15.20//NONSGML v1.0//EN
CALSCALE:GREGORIAN
METHOD:PUBLISH
X-WR-CALNAME:NADI Kampung Lay Out
X-ORIGINAL-URL:https://kglayout.nadi.my
X-WR-CALDESC:Events for NADI Kampung Lay Out
REFRESH-INTERVAL;VALUE=DURATION:PT1H
X-Robots-Tag:noindex
X-PUBLISHED-TTL:PT1H
BEGIN:VTIMEZONE
TZID:UTC
BEGIN:STANDARD
TZOFFSETFROM:+0000
TZOFFSETTO:+0000
TZNAME:UTC
DTSTART:20230101T000000
END:STANDARD
END:VTIMEZONE
BEGIN:VEVENT
DTSTART;TZID=UTC:20240316T150000
DTEND;TZID=UTC:20240316T160000
DTSTAMP:20260426T035117
CREATED:20240329T115211Z
LAST-MODIFIED:20240329T115211Z
UID:3396-1710601200-1710604800@kglayout.nadi.my
SUMMARY:STEM IOT (STACK CUPS)
DESCRIPTION:
URL:https://kglayout.nadi.my/event/stem-iot-stack-cups-2/
LOCATION:PEDi Kampung Lay Out\, PEDi Kampung Lay Out
CATEGORIES:DEFAULT
END:VEVENT
BEGIN:VEVENT
DTSTART;TZID=UTC:20240316T150000
DTEND;TZID=UTC:20240316T160000
DTSTAMP:20260426T035117
CREATED:20240329T115211Z
LAST-MODIFIED:20240329T115211Z
UID:3498-1710601200-1710604800@kglayout.nadi.my
SUMMARY:STEM IOT (STACK CUPS)
DESCRIPTION:
URL:https://kglayout.nadi.my/event/stem-iot-stack-cups-3/
LOCATION:PEDi Kampung Lay Out\, PEDi Kampung Lay Out
CATEGORIES:DEFAULT
END:VEVENT
BEGIN:VEVENT
DTSTART;TZID=UTC:20240315T100000
DTEND;TZID=UTC:20240315T110000
DTSTAMP:20260426T035117
CREATED:20240329T115012Z
LAST-MODIFIED:20240329T115012Z
UID:3247-1710496800-1710500400@kglayout.nadi.my
SUMMARY:DAFTAR PADU
DESCRIPTION:
URL:https://kglayout.nadi.my/event/daftar-padu/
LOCATION:PEDi Kampung Lay Out\, PEDi Kampung Lay Out
CATEGORIES:DEFAULT
END:VEVENT
BEGIN:VEVENT
DTSTART;TZID=UTC:20240315T100000
DTEND;TZID=UTC:20240315T110000
DTSTAMP:20260426T035117
CREATED:20240329T115012Z
LAST-MODIFIED:20240329T115012Z
UID:3395-1710496800-1710500400@kglayout.nadi.my
SUMMARY:DAFTAR PADU
DESCRIPTION:
URL:https://kglayout.nadi.my/event/daftar-padu-2/
LOCATION:PEDi Kampung Lay Out\, PEDi Kampung Lay Out
CATEGORIES:DEFAULT
END:VEVENT
BEGIN:VEVENT
DTSTART;TZID=UTC:20240315T100000
DTEND;TZID=UTC:20240315T110000
DTSTAMP:20260426T035117
CREATED:20240329T115012Z
LAST-MODIFIED:20240329T115012Z
UID:3497-1710496800-1710500400@kglayout.nadi.my
SUMMARY:DAFTAR PADU
DESCRIPTION:
URL:https://kglayout.nadi.my/event/daftar-padu-3/
LOCATION:PEDi Kampung Lay Out\, PEDi Kampung Lay Out
CATEGORIES:DEFAULT
END:VEVENT
BEGIN:VEVENT
DTSTART;TZID=UTC:20240313T030000
DTEND;TZID=UTC:20240313T160000
DTSTAMP:20260426T035117
CREATED:20240315T154429Z
LAST-MODIFIED:20240315T154429Z
UID:3394-1710298800-1710345600@kglayout.nadi.my
SUMMARY:UJI MINDA
DESCRIPTION:
URL:https://kglayout.nadi.my/event/uji-minda-5/
LOCATION:PEDi Kampung Lay Out\, PEDi Kampung Lay Out
CATEGORIES:DEFAULT
END:VEVENT
BEGIN:VEVENT
DTSTART;TZID=UTC:20240313T030000
DTEND;TZID=UTC:20240313T160000
DTSTAMP:20260426T035117
CREATED:20240315T154429Z
LAST-MODIFIED:20240315T154429Z
UID:3496-1710298800-1710345600@kglayout.nadi.my
SUMMARY:UJI MINDA
DESCRIPTION:
URL:https://kglayout.nadi.my/event/uji-minda-8/
LOCATION:PEDi Kampung Lay Out\, PEDi Kampung Lay Out
CATEGORIES:DEFAULT
END:VEVENT
BEGIN:VEVENT
DTSTART;TZID=UTC:20240313T030000
DTEND;TZID=UTC:20240313T160000
DTSTAMP:20260426T035117
CREATED:20240315T154429Z
LAST-MODIFIED:20240315T154429Z
UID:3246-1710298800-1710345600@kglayout.nadi.my
SUMMARY:UJI MINDA
DESCRIPTION:
URL:https://kglayout.nadi.my/event/uji-minda-2/
LOCATION:PEDi Kampung Lay Out\, PEDi Kampung Lay Out
CATEGORIES:DEFAULT
END:VEVENT
BEGIN:VEVENT
DTSTART;TZID=UTC:20240312T150000
DTEND;TZID=UTC:20240312T160000
DTSTAMP:20260426T035117
CREATED:20240315T154331Z
LAST-MODIFIED:20240315T154331Z
UID:3393-1710255600-1710259200@kglayout.nadi.my
SUMMARY:LATIHAN MEWARNA
DESCRIPTION:
URL:https://kglayout.nadi.my/event/latihan-mewarna-2/
LOCATION:PEDi Kampung Lay Out\, PEDi Kampung Lay Out
CATEGORIES:DEFAULT
END:VEVENT
BEGIN:VEVENT
DTSTART;TZID=UTC:20240312T150000
DTEND;TZID=UTC:20240312T160000
DTSTAMP:20260426T035117
CREATED:20240315T154331Z
LAST-MODIFIED:20240315T154331Z
UID:3495-1710255600-1710259200@kglayout.nadi.my
SUMMARY:LATIHAN MEWARNA
DESCRIPTION:
URL:https://kglayout.nadi.my/event/latihan-mewarna-3/
LOCATION:PEDi Kampung Lay Out\, PEDi Kampung Lay Out
CATEGORIES:DEFAULT
END:VEVENT
BEGIN:VEVENT
DTSTART;TZID=UTC:20240312T150000
DTEND;TZID=UTC:20240312T160000
DTSTAMP:20260426T035117
CREATED:20240315T154331Z
LAST-MODIFIED:20240315T154331Z
UID:3245-1710255600-1710259200@kglayout.nadi.my
SUMMARY:LATIHAN MEWARNA
DESCRIPTION:
URL:https://kglayout.nadi.my/event/latihan-mewarna/
LOCATION:PEDi Kampung Lay Out\, PEDi Kampung Lay Out
CATEGORIES:DEFAULT
END:VEVENT
BEGIN:VEVENT
DTSTART;TZID=UTC:20240311T150000
DTEND;TZID=UTC:20240311T160000
DTSTAMP:20260426T035117
CREATED:20240315T153520Z
LAST-MODIFIED:20240315T153520Z
UID:3494-1710169200-1710172800@kglayout.nadi.my
SUMMARY:RESUME WRITING
DESCRIPTION:
URL:https://kglayout.nadi.my/event/resume-writing-13/
LOCATION:PEDi Kampung Lay Out\, PEDi Kampung Lay Out
CATEGORIES:DEFAULT
END:VEVENT
BEGIN:VEVENT
DTSTART;TZID=UTC:20240311T150000
DTEND;TZID=UTC:20240311T160000
DTSTAMP:20260426T035117
CREATED:20240315T153520Z
LAST-MODIFIED:20240315T153520Z
UID:3244-1710169200-1710172800@kglayout.nadi.my
SUMMARY:RESUME WRITING
DESCRIPTION:
URL:https://kglayout.nadi.my/event/resume-writing-6/
LOCATION:PEDi Kampung Lay Out\, PEDi Kampung Lay Out
CATEGORIES:DEFAULT
END:VEVENT
BEGIN:VEVENT
DTSTART;TZID=UTC:20240311T150000
DTEND;TZID=UTC:20240311T160000
DTSTAMP:20260426T035117
CREATED:20240315T153520Z
LAST-MODIFIED:20240315T153520Z
UID:3392-1710169200-1710172800@kglayout.nadi.my
SUMMARY:RESUME WRITING
DESCRIPTION:
URL:https://kglayout.nadi.my/event/resume-writing-10/
LOCATION:PEDi Kampung Lay Out\, PEDi Kampung Lay Out
CATEGORIES:DEFAULT
END:VEVENT
BEGIN:VEVENT
DTSTART;TZID=UTC:20240308T100000
DTEND;TZID=UTC:20240308T110000
DTSTAMP:20260426T035117
CREATED:20240315T084736Z
LAST-MODIFIED:20240315T084736Z
UID:3243-1709892000-1709895600@kglayout.nadi.my
SUMMARY:EPEMBELAJARAN ONLINE LEARNING (KATA NAMA)
DESCRIPTION:
URL:https://kglayout.nadi.my/event/epembelajaran-online-learning-kata-nama/
LOCATION:PEDi Kampung Lay Out\, PEDi Kampung Lay Out
CATEGORIES:DEFAULT
END:VEVENT
BEGIN:VEVENT
DTSTART;TZID=UTC:20240308T100000
DTEND;TZID=UTC:20240308T110000
DTSTAMP:20260426T035117
CREATED:20240315T084736Z
LAST-MODIFIED:20240315T084736Z
UID:3391-1709892000-1709895600@kglayout.nadi.my
SUMMARY:EPEMBELAJARAN ONLINE LEARNING (KATA NAMA)
DESCRIPTION:
URL:https://kglayout.nadi.my/event/epembelajaran-online-learning-kata-nama-2/
LOCATION:PEDi Kampung Lay Out\, PEDi Kampung Lay Out
CATEGORIES:DEFAULT
END:VEVENT
BEGIN:VEVENT
DTSTART;TZID=UTC:20240308T100000
DTEND;TZID=UTC:20240308T110000
DTSTAMP:20260426T035117
CREATED:20240315T084736Z
LAST-MODIFIED:20240315T084736Z
UID:3493-1709892000-1709895600@kglayout.nadi.my
SUMMARY:EPEMBELAJARAN ONLINE LEARNING (KATA NAMA)
DESCRIPTION:
URL:https://kglayout.nadi.my/event/epembelajaran-online-learning-kata-nama-3/
LOCATION:PEDi Kampung Lay Out\, PEDi Kampung Lay Out
CATEGORIES:DEFAULT
END:VEVENT
BEGIN:VEVENT
DTSTART;TZID=UTC:20240307T150000
DTEND;TZID=UTC:20240307T160000
DTSTAMP:20260426T035117
CREATED:20240315T084658Z
LAST-MODIFIED:20240315T084658Z
UID:3242-1709823600-1709827200@kglayout.nadi.my
SUMMARY:ICT : QUIZZIZ ONLINE
DESCRIPTION:
URL:https://kglayout.nadi.my/event/ict-quizziz-online/
LOCATION:PEDi Kampung Lay Out\, PEDi Kampung Lay Out
CATEGORIES:DEFAULT
END:VEVENT
BEGIN:VEVENT
DTSTART;TZID=UTC:20240307T150000
DTEND;TZID=UTC:20240307T160000
DTSTAMP:20260426T035117
CREATED:20240315T084658Z
LAST-MODIFIED:20240315T084658Z
UID:3390-1709823600-1709827200@kglayout.nadi.my
SUMMARY:ICT : QUIZZIZ ONLINE
DESCRIPTION:
URL:https://kglayout.nadi.my/event/ict-quizziz-online-4/
LOCATION:PEDi Kampung Lay Out\, PEDi Kampung Lay Out
CATEGORIES:DEFAULT
END:VEVENT
BEGIN:VEVENT
DTSTART;TZID=UTC:20240307T150000
DTEND;TZID=UTC:20240307T160000
DTSTAMP:20260426T035117
CREATED:20240315T084658Z
LAST-MODIFIED:20240315T084658Z
UID:3492-1709823600-1709827200@kglayout.nadi.my
SUMMARY:ICT : QUIZZIZ ONLINE
DESCRIPTION:
URL:https://kglayout.nadi.my/event/ict-quizziz-online-5/
LOCATION:PEDi Kampung Lay Out\, PEDi Kampung Lay Out
CATEGORIES:DEFAULT
END:VEVENT
BEGIN:VEVENT
DTSTART;TZID=UTC:20240305T150000
DTEND;TZID=UTC:20240305T160000
DTSTAMP:20260426T035117
CREATED:20240315T084454Z
LAST-MODIFIED:20240315T084454Z
UID:3241-1709650800-1709654400@kglayout.nadi.my
SUMMARY:ONLINE BANKING
DESCRIPTION:
URL:https://kglayout.nadi.my/event/online-banking/
LOCATION:PEDi Kampung Lay Out\, PEDi Kampung Lay Out
CATEGORIES:DEFAULT
END:VEVENT
BEGIN:VEVENT
DTSTART;TZID=UTC:20240305T150000
DTEND;TZID=UTC:20240305T160000
DTSTAMP:20260426T035117
CREATED:20240315T084454Z
LAST-MODIFIED:20240315T084454Z
UID:3389-1709650800-1709654400@kglayout.nadi.my
SUMMARY:ONLINE BANKING
DESCRIPTION:
URL:https://kglayout.nadi.my/event/online-banking-2/
LOCATION:PEDi Kampung Lay Out\, PEDi Kampung Lay Out
CATEGORIES:DEFAULT
END:VEVENT
BEGIN:VEVENT
DTSTART;TZID=UTC:20240305T150000
DTEND;TZID=UTC:20240305T160000
DTSTAMP:20260426T035117
CREATED:20240315T084454Z
LAST-MODIFIED:20240315T084454Z
UID:3491-1709650800-1709654400@kglayout.nadi.my
SUMMARY:ONLINE BANKING
DESCRIPTION:
URL:https://kglayout.nadi.my/event/online-banking-3/
LOCATION:PEDi Kampung Lay Out\, PEDi Kampung Lay Out
CATEGORIES:DEFAULT
END:VEVENT
BEGIN:VEVENT
DTSTART;TZID=UTC:20240303T100000
DTEND;TZID=UTC:20240303T110000
DTSTAMP:20260426T035117
CREATED:20240315T084408Z
LAST-MODIFIED:20240315T084408Z
UID:3388-1709460000-1709463600@kglayout.nadi.my
SUMMARY:CREATE EMAIL
DESCRIPTION:
URL:https://kglayout.nadi.my/event/create-email-2/
LOCATION:PEDi Kampung Lay Out\, PEDi Kampung Lay Out
CATEGORIES:DEFAULT
END:VEVENT
BEGIN:VEVENT
DTSTART;TZID=UTC:20240303T100000
DTEND;TZID=UTC:20240303T110000
DTSTAMP:20260426T035117
CREATED:20240315T084408Z
LAST-MODIFIED:20240315T084408Z
UID:3490-1709460000-1709463600@kglayout.nadi.my
SUMMARY:CREATE EMAIL
DESCRIPTION:
URL:https://kglayout.nadi.my/event/create-email-3/
LOCATION:PEDi Kampung Lay Out\, PEDi Kampung Lay Out
CATEGORIES:DEFAULT
END:VEVENT
BEGIN:VEVENT
DTSTART;TZID=UTC:20240303T100000
DTEND;TZID=UTC:20240303T110000
DTSTAMP:20260426T035117
CREATED:20240315T084408Z
LAST-MODIFIED:20240315T084408Z
UID:3240-1709460000-1709463600@kglayout.nadi.my
SUMMARY:CREATE EMAIL
DESCRIPTION:
URL:https://kglayout.nadi.my/event/create-email/
LOCATION:PEDi Kampung Lay Out\, PEDi Kampung Lay Out
CATEGORIES:DEFAULT
END:VEVENT
BEGIN:VEVENT
DTSTART;TZID=UTC:20240227T110000
DTEND;TZID=UTC:20240227T120000
DTSTAMP:20260426T035117
CREATED:20240224T111221Z
LAST-MODIFIED:20240224T111221Z
UID:3387-1709031600-1709035200@kglayout.nadi.my
SUMMARY:ICT: MICROSOFT WORD
DESCRIPTION:
URL:https://kglayout.nadi.my/event/ict-microsoft-word-2/
LOCATION:PEDi Kampung Lay Out\, PEDi Kampung Lay Out
CATEGORIES:DEFAULT
END:VEVENT
BEGIN:VEVENT
DTSTART;TZID=UTC:20240227T110000
DTEND;TZID=UTC:20240227T120000
DTSTAMP:20260426T035117
CREATED:20240224T111221Z
LAST-MODIFIED:20240224T111221Z
UID:3489-1709031600-1709035200@kglayout.nadi.my
SUMMARY:ICT: MICROSOFT WORD
DESCRIPTION:
URL:https://kglayout.nadi.my/event/ict-microsoft-word-3/
LOCATION:PEDi Kampung Lay Out\, PEDi Kampung Lay Out
CATEGORIES:DEFAULT
END:VEVENT
BEGIN:VEVENT
DTSTART;TZID=UTC:20240227T110000
DTEND;TZID=UTC:20240227T120000
DTSTAMP:20260426T035117
CREATED:20240224T111221Z
LAST-MODIFIED:20240224T111221Z
UID:3239-1709031600-1709035200@kglayout.nadi.my
SUMMARY:ICT: MICROSOFT WORD
DESCRIPTION:
URL:https://kglayout.nadi.my/event/ict-microsoft-word/
LOCATION:PEDi Kampung Lay Out\, PEDi Kampung Lay Out
CATEGORIES:DEFAULT
END:VEVENT
BEGIN:VEVENT
DTSTART;TZID=UTC:20240223T110000
DTEND;TZID=UTC:20240223T120000
DTSTAMP:20260426T035117
CREATED:20240224T102153Z
LAST-MODIFIED:20240224T102153Z
UID:3238-1708686000-1708689600@kglayout.nadi.my
SUMMARY:EPEMBELAJARAN ONLINE LEARNING
DESCRIPTION:
URL:https://kglayout.nadi.my/event/epembelajaran-online-learning-2/
LOCATION:PEDi Kampung Lay Out\, PEDi Kampung Lay Out
CATEGORIES:DEFAULT
END:VEVENT
END:VCALENDAR