BEGIN:VCALENDAR
VERSION:2.0
PRODID:-//NADI Kampung Lay Out - ECPv6.15.20//NONSGML v1.0//EN
CALSCALE:GREGORIAN
METHOD:PUBLISH
X-WR-CALNAME:NADI Kampung Lay Out
X-ORIGINAL-URL:https://kglayout.nadi.my
X-WR-CALDESC:Events for NADI Kampung Lay Out
REFRESH-INTERVAL;VALUE=DURATION:PT1H
X-Robots-Tag:noindex
X-PUBLISHED-TTL:PT1H
BEGIN:VTIMEZONE
TZID:UTC
BEGIN:STANDARD
TZOFFSETFROM:+0000
TZOFFSETTO:+0000
TZNAME:UTC
DTSTART:20230101T000000
END:STANDARD
END:VTIMEZONE
BEGIN:VEVENT
DTSTART;TZID=UTC:20240601T100000
DTEND;TZID=UTC:20240601T110000
DTSTAMP:20260425T215711
CREATED:20240610T111831Z
LAST-MODIFIED:20240610T111831Z
UID:3288-1717236000-1717239600@kglayout.nadi.my
SUMMARY:SOFTSKILL UJI MINDA (CONGAK WANG)
DESCRIPTION:
URL:https://kglayout.nadi.my/event/softskill-uji-minda-congak-wang/
LOCATION:NADI Kg Lay Out\, NADI Kg Lay Out
CATEGORIES:DEFAULT
END:VEVENT
BEGIN:VEVENT
DTSTART;TZID=UTC:20240601T100000
DTEND;TZID=UTC:20240601T110000
DTSTAMP:20260425T215711
CREATED:20240610T111831Z
LAST-MODIFIED:20240610T111831Z
UID:3535-1717236000-1717239600@kglayout.nadi.my
SUMMARY:SOFTSKILL UJI MINDA (CONGAK WANG)
DESCRIPTION:
URL:https://kglayout.nadi.my/event/softskill-uji-minda-congak-wang-2/
LOCATION:NADI Kg Lay Out\, NADI Kg Lay Out
CATEGORIES:DEFAULT
END:VEVENT
END:VCALENDAR