BEGIN:VCALENDAR
VERSION:2.0
PRODID:-//NADI Kampung Lay Out - ECPv6.15.20//NONSGML v1.0//EN
CALSCALE:GREGORIAN
METHOD:PUBLISH
X-WR-CALNAME:NADI Kampung Lay Out
X-ORIGINAL-URL:https://kglayout.nadi.my
X-WR-CALDESC:Events for NADI Kampung Lay Out
REFRESH-INTERVAL;VALUE=DURATION:PT1H
X-Robots-Tag:noindex
X-PUBLISHED-TTL:PT1H
BEGIN:VTIMEZONE
TZID:UTC
BEGIN:STANDARD
TZOFFSETFROM:+0000
TZOFFSETTO:+0000
TZNAME:UTC
DTSTART:20230101T000000
END:STANDARD
END:VTIMEZONE
BEGIN:VEVENT
DTSTART;TZID=UTC:20240512T150000
DTEND;TZID=UTC:20240512T160000
DTSTAMP:20260425T204740
CREATED:20240518T092400Z
LAST-MODIFIED:20240518T092400Z
UID:3277-1715526000-1715529600@kglayout.nadi.my
SUMMARY:ICT : QUIZZIZ ONLINE
DESCRIPTION:
URL:https://kglayout.nadi.my/event/ict-quizziz-online-2/
LOCATION:NADI Kg Lay Out\, NADI Kg Lay Out
CATEGORIES:DEFAULT
END:VEVENT
BEGIN:VEVENT
DTSTART;TZID=UTC:20240512T150000
DTEND;TZID=UTC:20240512T160000
DTSTAMP:20260425T204740
CREATED:20240518T092400Z
LAST-MODIFIED:20240518T092400Z
UID:3525-1715526000-1715529600@kglayout.nadi.my
SUMMARY:ICT : QUIZZIZ ONLINE
DESCRIPTION:
URL:https://kglayout.nadi.my/event/ict-quizziz-online-6/
LOCATION:NADI Kg Lay Out\, NADI Kg Lay Out
CATEGORIES:DEFAULT
END:VEVENT
BEGIN:VEVENT
DTSTART;TZID=UTC:20240512T150000
DTEND;TZID=UTC:20240512T160000
DTSTAMP:20260425T204740
CREATED:20240518T092401Z
LAST-MODIFIED:20240518T092401Z
UID:3278-1715526000-1715529600@kglayout.nadi.my
SUMMARY:ICT : QUIZZIZ ONLINE
DESCRIPTION:
URL:https://kglayout.nadi.my/event/ict-quizziz-online-3/
LOCATION:NADI Kg Lay Out\, NADI Kg Lay Out
CATEGORIES:DEFAULT
END:VEVENT
BEGIN:VEVENT
DTSTART;TZID=UTC:20240512T150000
DTEND;TZID=UTC:20240512T160000
DTSTAMP:20260425T204740
CREATED:20240518T092401Z
LAST-MODIFIED:20240518T092401Z
UID:3526-1715526000-1715529600@kglayout.nadi.my
SUMMARY:ICT : QUIZZIZ ONLINE
DESCRIPTION:
URL:https://kglayout.nadi.my/event/ict-quizziz-online-7/
LOCATION:NADI Kg Lay Out\, NADI Kg Lay Out
CATEGORIES:DEFAULT
END:VEVENT
END:VCALENDAR