BEGIN:VCALENDAR
VERSION:2.0
PRODID:-//NADI Kampung Lay Out - ECPv6.15.20//NONSGML v1.0//EN
CALSCALE:GREGORIAN
METHOD:PUBLISH
X-WR-CALNAME:NADI Kampung Lay Out
X-ORIGINAL-URL:https://kglayout.nadi.my
X-WR-CALDESC:Events for NADI Kampung Lay Out
REFRESH-INTERVAL;VALUE=DURATION:PT1H
X-Robots-Tag:noindex
X-PUBLISHED-TTL:PT1H
BEGIN:VTIMEZONE
TZID:UTC
BEGIN:STANDARD
TZOFFSETFROM:+0000
TZOFFSETTO:+0000
TZNAME:UTC
DTSTART:20230101T000000
END:STANDARD
END:VTIMEZONE
BEGIN:VEVENT
DTSTART;TZID=UTC:20240409T150000
DTEND;TZID=UTC:20240409T160000
DTSTAMP:20260426T020800
CREATED:20240420T140839Z
LAST-MODIFIED:20240420T140839Z
UID:3262-1712674800-1712678400@kglayout.nadi.my
SUMMARY:EPEMBELAJARAN ONLINE LEARNING (MEWARNA ATAS TALIAN)
DESCRIPTION:
URL:https://kglayout.nadi.my/event/epembelajaran-online-learning-mewarna-atas-talian/
LOCATION:NADI KG LAYOUT\, NADI KG LAYOUT
CATEGORIES:DEFAULT
END:VEVENT
BEGIN:VEVENT
DTSTART;TZID=UTC:20240409T150000
DTEND;TZID=UTC:20240409T160000
DTSTAMP:20260426T020800
CREATED:20240420T140839Z
LAST-MODIFIED:20240420T140839Z
UID:3511-1712674800-1712678400@kglayout.nadi.my
SUMMARY:EPEMBELAJARAN ONLINE LEARNING (MEWARNA ATAS TALIAN)
DESCRIPTION:
URL:https://kglayout.nadi.my/event/epembelajaran-online-learning-mewarna-atas-talian-2/
LOCATION:NADI KG LAYOUT\, NADI KG LAYOUT
CATEGORIES:DEFAULT
END:VEVENT
END:VCALENDAR