BEGIN:VCALENDAR
VERSION:2.0
PRODID:-//NADI Kampung Lay Out - ECPv6.15.13.1//NONSGML v1.0//EN
CALSCALE:GREGORIAN
METHOD:PUBLISH
X-WR-CALNAME:NADI Kampung Lay Out
X-ORIGINAL-URL:https://kglayout.nadi.my
X-WR-CALDESC:Events for NADI Kampung Lay Out
REFRESH-INTERVAL;VALUE=DURATION:PT1H
X-Robots-Tag:noindex
X-PUBLISHED-TTL:PT1H
BEGIN:VTIMEZONE
TZID:UTC
BEGIN:STANDARD
TZOFFSETFROM:+0000
TZOFFSETTO:+0000
TZNAME:UTC
DTSTART:20230101T000000
END:STANDARD
END:VTIMEZONE
BEGIN:VEVENT
DTSTART;TZID=UTC:20240203T100000
DTEND;TZID=UTC:20240203T120000
DTSTAMP:20260422T035732
CREATED:20240222T164710Z
LAST-MODIFIED:20240222T164710Z
UID:3225-1706954400-1706961600@kglayout.nadi.my
SUMMARY:STEM IOT
DESCRIPTION:
URL:https://kglayout.nadi.my/event/stem-iot/
LOCATION:PEDi Kampung Lay Out\, PEDi Kampung Lay Out
CATEGORIES:DEFAULT
END:VEVENT
BEGIN:VEVENT
DTSTART;TZID=UTC:20240203T100000
DTEND;TZID=UTC:20240203T120000
DTSTAMP:20260422T035732
CREATED:20240222T164710Z
LAST-MODIFIED:20240222T164710Z
UID:3373-1706954400-1706961600@kglayout.nadi.my
SUMMARY:STEM IOT
DESCRIPTION:
URL:https://kglayout.nadi.my/event/stem-iot-7/
LOCATION:PEDi Kampung Lay Out\, PEDi Kampung Lay Out
CATEGORIES:DEFAULT
END:VEVENT
BEGIN:VEVENT
DTSTART;TZID=UTC:20240203T100000
DTEND;TZID=UTC:20240203T120000
DTSTAMP:20260422T035732
CREATED:20240222T164710Z
LAST-MODIFIED:20240222T164710Z
UID:3475-1706954400-1706961600@kglayout.nadi.my
SUMMARY:STEM IOT
DESCRIPTION:
URL:https://kglayout.nadi.my/event/stem-iot-11/
LOCATION:PEDi Kampung Lay Out\, PEDi Kampung Lay Out
CATEGORIES:DEFAULT
END:VEVENT
END:VCALENDAR