BEGIN:VCALENDAR
VERSION:2.0
PRODID:-//NADI Kampung Lay Out - ECPv6.15.13.1//NONSGML v1.0//EN
CALSCALE:GREGORIAN
METHOD:PUBLISH
X-WR-CALNAME:NADI Kampung Lay Out
X-ORIGINAL-URL:https://kglayout.nadi.my
X-WR-CALDESC:Events for NADI Kampung Lay Out
REFRESH-INTERVAL;VALUE=DURATION:PT1H
X-Robots-Tag:noindex
X-PUBLISHED-TTL:PT1H
BEGIN:VTIMEZONE
TZID:UTC
BEGIN:STANDARD
TZOFFSETFROM:+0000
TZOFFSETTO:+0000
TZNAME:UTC
DTSTART:20230101T000000
END:STANDARD
END:VTIMEZONE
BEGIN:VEVENT
DTSTART;TZID=UTC:20240123T150000
DTEND;TZID=UTC:20240123T160000
DTSTAMP:20260422T035727
CREATED:20240207T155336Z
LAST-MODIFIED:20240207T155336Z
UID:3222-1706022000-1706025600@kglayout.nadi.my
SUMMARY:KELAS KEUSAHAWANAN ( SSM ONLINE )
DESCRIPTION:
URL:https://kglayout.nadi.my/event/kelas-keusahawanan-ssm-online/
LOCATION:PEDi Kampung Tembila\, PEDi Kampung Tembila
CATEGORIES:DEFAULT
END:VEVENT
BEGIN:VEVENT
DTSTART;TZID=UTC:20240123T150000
DTEND;TZID=UTC:20240123T160000
DTSTAMP:20260422T035727
CREATED:20240207T155336Z
LAST-MODIFIED:20240207T155336Z
UID:3370-1706022000-1706025600@kglayout.nadi.my
SUMMARY:KELAS KEUSAHAWANAN ( SSM ONLINE )
DESCRIPTION:
URL:https://kglayout.nadi.my/event/kelas-keusahawanan-ssm-online-2/
LOCATION:PEDi Kampung Tembila\, PEDi Kampung Tembila
CATEGORIES:DEFAULT
END:VEVENT
BEGIN:VEVENT
DTSTART;TZID=UTC:20240123T150000
DTEND;TZID=UTC:20240123T160000
DTSTAMP:20260422T035727
CREATED:20240207T155336Z
LAST-MODIFIED:20240207T155336Z
UID:3472-1706022000-1706025600@kglayout.nadi.my
SUMMARY:KELAS KEUSAHAWANAN ( SSM ONLINE )
DESCRIPTION:
URL:https://kglayout.nadi.my/event/kelas-keusahawanan-ssm-online-3/
LOCATION:PEDi Kampung Tembila\, PEDi Kampung Tembila
CATEGORIES:DEFAULT
END:VEVENT
END:VCALENDAR