BEGIN:VCALENDAR
VERSION:2.0
PRODID:-//NADI Kampung Lay Out - ECPv6.15.20//NONSGML v1.0//EN
CALSCALE:GREGORIAN
METHOD:PUBLISH
X-WR-CALNAME:NADI Kampung Lay Out
X-ORIGINAL-URL:https://kglayout.nadi.my
X-WR-CALDESC:Events for NADI Kampung Lay Out
REFRESH-INTERVAL;VALUE=DURATION:PT1H
X-Robots-Tag:noindex
X-PUBLISHED-TTL:PT1H
BEGIN:VTIMEZONE
TZID:UTC
BEGIN:STANDARD
TZOFFSETFROM:+0000
TZOFFSETTO:+0000
TZNAME:UTC
DTSTART:20220101T000000
END:STANDARD
END:VTIMEZONE
BEGIN:VEVENT
DTSTART;TZID=UTC:20231217T150000
DTEND;TZID=UTC:20231217T170000
DTSTAMP:20260424T100148
CREATED:20231231T152156Z
LAST-MODIFIED:20231231T152156Z
UID:3202-1702825200-1702832400@kglayout.nadi.my
SUMMARY:KEUSAWAHANAN: PENDAFTARAN EZBIZ DAN RENEW SSM
DESCRIPTION:
URL:https://kglayout.nadi.my/event/keusawahanan-pendaftaran-ezbiz-dan-renew-ssm/
LOCATION:PEDi Kg Layout Tok Saboh\, PEDi Kg Layout Tok Saboh
CATEGORIES:DEFAULT
END:VEVENT
BEGIN:VEVENT
DTSTART;TZID=UTC:20231217T150000
DTEND;TZID=UTC:20231217T170000
DTSTAMP:20260424T100148
CREATED:20231231T152156Z
LAST-MODIFIED:20231231T152156Z
UID:3352-1702825200-1702832400@kglayout.nadi.my
SUMMARY:KEUSAWAHANAN: PENDAFTARAN EZBIZ DAN RENEW SSM
DESCRIPTION:
URL:https://kglayout.nadi.my/event/keusawahanan-pendaftaran-ezbiz-dan-renew-ssm-2/
LOCATION:PEDi Kg Layout Tok Saboh\, PEDi Kg Layout Tok Saboh
CATEGORIES:DEFAULT
END:VEVENT
BEGIN:VEVENT
DTSTART;TZID=UTC:20231217T150000
DTEND;TZID=UTC:20231217T170000
DTSTAMP:20260424T100148
CREATED:20231231T152156Z
LAST-MODIFIED:20231231T152156Z
UID:3454-1702825200-1702832400@kglayout.nadi.my
SUMMARY:KEUSAWAHANAN: PENDAFTARAN EZBIZ DAN RENEW SSM
DESCRIPTION:
URL:https://kglayout.nadi.my/event/keusawahanan-pendaftaran-ezbiz-dan-renew-ssm-3/
LOCATION:PEDi Kg Layout Tok Saboh\, PEDi Kg Layout Tok Saboh
CATEGORIES:DEFAULT
END:VEVENT
END:VCALENDAR