BEGIN:VCALENDAR
VERSION:2.0
PRODID:-//NADI Kampung Lay Out - ECPv6.15.13.1//NONSGML v1.0//EN
CALSCALE:GREGORIAN
METHOD:PUBLISH
X-WR-CALNAME:NADI Kampung Lay Out
X-ORIGINAL-URL:https://kglayout.nadi.my
X-WR-CALDESC:Events for NADI Kampung Lay Out
REFRESH-INTERVAL;VALUE=DURATION:PT1H
X-Robots-Tag:noindex
X-PUBLISHED-TTL:PT1H
BEGIN:VTIMEZONE
TZID:UTC
BEGIN:STANDARD
TZOFFSETFROM:+0000
TZOFFSETTO:+0000
TZNAME:UTC
DTSTART:20220101T000000
END:STANDARD
END:VTIMEZONE
BEGIN:VEVENT
DTSTART;TZID=UTC:20231121T090000
DTEND;TZID=UTC:20231121T110000
DTSTAMP:20260422T014701
CREATED:20231202T122236Z
LAST-MODIFIED:20231202T122236Z
UID:3187-1700557200-1700564400@kglayout.nadi.my
SUMMARY:KEUSAHAWANAN: KELAS USAHAWAN (TM DIGITAL MARKETING SOLUTION)
DESCRIPTION:
URL:https://kglayout.nadi.my/event/keusahawanan-kelas-usahawan-tm-digital-marketing-solution/
LOCATION:PEDi Kg Layout Tok Saboh\, PEDi Kg Layout Tok Saboh
CATEGORIES:DEFAULT
END:VEVENT
BEGIN:VEVENT
DTSTART;TZID=UTC:20231121T090000
DTEND;TZID=UTC:20231121T110000
DTSTAMP:20260422T014701
CREATED:20231202T122236Z
LAST-MODIFIED:20231202T122236Z
UID:3337-1700557200-1700564400@kglayout.nadi.my
SUMMARY:KEUSAHAWANAN: KELAS USAHAWAN (TM DIGITAL MARKETING SOLUTION)
DESCRIPTION:
URL:https://kglayout.nadi.my/event/keusahawanan-kelas-usahawan-tm-digital-marketing-solution-2/
LOCATION:PEDi Kg Layout Tok Saboh\, PEDi Kg Layout Tok Saboh
CATEGORIES:DEFAULT
END:VEVENT
BEGIN:VEVENT
DTSTART;TZID=UTC:20231121T090000
DTEND;TZID=UTC:20231121T110000
DTSTAMP:20260422T014701
CREATED:20231202T122236Z
LAST-MODIFIED:20231202T122236Z
UID:3439-1700557200-1700564400@kglayout.nadi.my
SUMMARY:KEUSAHAWANAN: KELAS USAHAWAN (TM DIGITAL MARKETING SOLUTION)
DESCRIPTION:
URL:https://kglayout.nadi.my/event/keusahawanan-kelas-usahawan-tm-digital-marketing-solution-3/
LOCATION:PEDi Kg Layout Tok Saboh\, PEDi Kg Layout Tok Saboh
CATEGORIES:DEFAULT
END:VEVENT
END:VCALENDAR