BEGIN:VCALENDAR
VERSION:2.0
PRODID:-//NADI Kampung Lay Out - ECPv6.15.20//NONSGML v1.0//EN
CALSCALE:GREGORIAN
METHOD:PUBLISH
X-WR-CALNAME:NADI Kampung Lay Out
X-ORIGINAL-URL:https://kglayout.nadi.my
X-WR-CALDESC:Events for NADI Kampung Lay Out
REFRESH-INTERVAL;VALUE=DURATION:PT1H
X-Robots-Tag:noindex
X-PUBLISHED-TTL:PT1H
BEGIN:VTIMEZONE
TZID:UTC
BEGIN:STANDARD
TZOFFSETFROM:+0000
TZOFFSETTO:+0000
TZNAME:UTC
DTSTART:20220101T000000
END:STANDARD
END:VTIMEZONE
BEGIN:VEVENT
DTSTART;TZID=UTC:20231013T150000
DTEND;TZID=UTC:20231013T160000
DTSTAMP:20260423T233635
CREATED:20231030T171404Z
LAST-MODIFIED:20231030T171404Z
UID:3049-1697209200-1697212800@kglayout.nadi.my
SUMMARY:KEUSAHAWANAN : ONLINE BANKING
DESCRIPTION:
URL:https://kglayout.nadi.my/event/keusahawanan-online-banking/
LOCATION:PEDi Kg Layout Tok Saboh\, PEDi Kg Layout Tok Saboh
CATEGORIES:DEFAULT
END:VEVENT
BEGIN:VEVENT
DTSTART;TZID=UTC:20231013T150000
DTEND;TZID=UTC:20231013T160000
DTSTAMP:20260423T233635
CREATED:20231030T171404Z
LAST-MODIFIED:20231030T171404Z
UID:3163-1697209200-1697212800@kglayout.nadi.my
SUMMARY:KEUSAHAWANAN : ONLINE BANKING
DESCRIPTION:
URL:https://kglayout.nadi.my/event/keusahawanan-online-banking-2/
LOCATION:PEDi Kg Layout Tok Saboh\, PEDi Kg Layout Tok Saboh
CATEGORIES:DEFAULT
END:VEVENT
BEGIN:VEVENT
DTSTART;TZID=UTC:20231013T150000
DTEND;TZID=UTC:20231013T160000
DTSTAMP:20260423T233635
CREATED:20231030T171404Z
LAST-MODIFIED:20231030T171404Z
UID:3313-1697209200-1697212800@kglayout.nadi.my
SUMMARY:KEUSAHAWANAN : ONLINE BANKING
DESCRIPTION:
URL:https://kglayout.nadi.my/event/keusahawanan-online-banking-4/
LOCATION:PEDi Kg Layout Tok Saboh\, PEDi Kg Layout Tok Saboh
CATEGORIES:DEFAULT
END:VEVENT
BEGIN:VEVENT
DTSTART;TZID=UTC:20231013T150000
DTEND;TZID=UTC:20231013T160000
DTSTAMP:20260423T233635
CREATED:20231030T171404Z
LAST-MODIFIED:20231030T171404Z
UID:3415-1697209200-1697212800@kglayout.nadi.my
SUMMARY:KEUSAHAWANAN : ONLINE BANKING
DESCRIPTION:
URL:https://kglayout.nadi.my/event/keusahawanan-online-banking-5/
LOCATION:PEDi Kg Layout Tok Saboh\, PEDi Kg Layout Tok Saboh
CATEGORIES:DEFAULT
END:VEVENT
END:VCALENDAR