BEGIN:VCALENDAR
VERSION:2.0
PRODID:-//NADI Kampung Lay Out - ECPv6.15.13.1//NONSGML v1.0//EN
CALSCALE:GREGORIAN
METHOD:PUBLISH
X-WR-CALNAME:NADI Kampung Lay Out
X-ORIGINAL-URL:https://kglayout.nadi.my
X-WR-CALDESC:Events for NADI Kampung Lay Out
REFRESH-INTERVAL;VALUE=DURATION:PT1H
X-Robots-Tag:noindex
X-PUBLISHED-TTL:PT1H
BEGIN:VTIMEZONE
TZID:UTC
BEGIN:STANDARD
TZOFFSETFROM:+0000
TZOFFSETTO:+0000
TZNAME:UTC
DTSTART:20220101T000000
END:STANDARD
END:VTIMEZONE
BEGIN:VEVENT
DTSTART;TZID=UTC:20230929T090000
DTEND;TZID=UTC:20230929T120000
DTSTAMP:20260421T122559
CREATED:20230930T111152Z
LAST-MODIFIED:20230930T111152Z
UID:3043-1695978000-1695988800@kglayout.nadi.my
SUMMARY:KEUSAHAWANAN: PENDAFTARAN ONLINE BANKING
DESCRIPTION:
URL:https://kglayout.nadi.my/event/keusahawanan-pendaftaran-online-banking/
LOCATION:PEDi Kg Layout Tok Saboh\, PEDi Kg Layout Tok Saboh
CATEGORIES:DEFAULT
END:VEVENT
BEGIN:VEVENT
DTSTART;TZID=UTC:20230929T090000
DTEND;TZID=UTC:20230929T120000
DTSTAMP:20260421T122559
CREATED:20230930T111152Z
LAST-MODIFIED:20230930T111152Z
UID:3117-1695978000-1695988800@kglayout.nadi.my
SUMMARY:KEUSAHAWANAN: PENDAFTARAN ONLINE BANKING
DESCRIPTION:
URL:https://kglayout.nadi.my/event/keusahawanan-pendaftaran-online-banking-2/
LOCATION:PEDi Kg Layout Tok Saboh\, PEDi Kg Layout Tok Saboh
CATEGORIES:DEFAULT
END:VEVENT
BEGIN:VEVENT
DTSTART;TZID=UTC:20230929T090000
DTEND;TZID=UTC:20230929T120000
DTSTAMP:20260421T122559
CREATED:20230930T111152Z
LAST-MODIFIED:20230930T111152Z
UID:3157-1695978000-1695988800@kglayout.nadi.my
SUMMARY:KEUSAHAWANAN: PENDAFTARAN ONLINE BANKING
DESCRIPTION:
URL:https://kglayout.nadi.my/event/keusahawanan-pendaftaran-online-banking-3/
LOCATION:PEDi Kg Layout Tok Saboh\, PEDi Kg Layout Tok Saboh
CATEGORIES:DEFAULT
END:VEVENT
BEGIN:VEVENT
DTSTART;TZID=UTC:20230929T090000
DTEND;TZID=UTC:20230929T120000
DTSTAMP:20260421T122559
CREATED:20230930T111152Z
LAST-MODIFIED:20230930T111152Z
UID:3307-1695978000-1695988800@kglayout.nadi.my
SUMMARY:KEUSAHAWANAN: PENDAFTARAN ONLINE BANKING
DESCRIPTION:
URL:https://kglayout.nadi.my/event/keusahawanan-pendaftaran-online-banking-4/
LOCATION:PEDi Kg Layout Tok Saboh\, PEDi Kg Layout Tok Saboh
CATEGORIES:DEFAULT
END:VEVENT
BEGIN:VEVENT
DTSTART;TZID=UTC:20230929T090000
DTEND;TZID=UTC:20230929T120000
DTSTAMP:20260421T122559
CREATED:20230930T111152Z
LAST-MODIFIED:20230930T111152Z
UID:3409-1695978000-1695988800@kglayout.nadi.my
SUMMARY:KEUSAHAWANAN: PENDAFTARAN ONLINE BANKING
DESCRIPTION:
URL:https://kglayout.nadi.my/event/keusahawanan-pendaftaran-online-banking-5/
LOCATION:PEDi Kg Layout Tok Saboh\, PEDi Kg Layout Tok Saboh
CATEGORIES:DEFAULT
END:VEVENT
END:VCALENDAR