BEGIN:VCALENDAR
VERSION:2.0
PRODID:-//NADI Kampung Lay Out - ECPv6.15.13.1//NONSGML v1.0//EN
CALSCALE:GREGORIAN
METHOD:PUBLISH
X-WR-CALNAME:NADI Kampung Lay Out
X-ORIGINAL-URL:https://kglayout.nadi.my
X-WR-CALDESC:Events for NADI Kampung Lay Out
REFRESH-INTERVAL;VALUE=DURATION:PT1H
X-Robots-Tag:noindex
X-PUBLISHED-TTL:PT1H
BEGIN:VTIMEZONE
TZID:UTC
BEGIN:STANDARD
TZOFFSETFROM:+0000
TZOFFSETTO:+0000
TZNAME:UTC
DTSTART:20220101T000000
END:STANDARD
END:VTIMEZONE
BEGIN:VEVENT
DTSTART;TZID=UTC:20230924T150000
DTEND;TZID=UTC:20230924T160000
DTSTAMP:20260421T101440
CREATED:20230930T110940Z
LAST-MODIFIED:20230930T110940Z
UID:3041-1695567600-1695571200@kglayout.nadi.my
SUMMARY:IOT: STEM IOT 2.0
DESCRIPTION:
URL:https://kglayout.nadi.my/event/iot-stem-iot-2-0/
LOCATION:PEDi Kg Layout Tok Saboh\, PEDi Kg Layout Tok Saboh
CATEGORIES:DEFAULT
END:VEVENT
BEGIN:VEVENT
DTSTART;TZID=UTC:20230924T150000
DTEND;TZID=UTC:20230924T160000
DTSTAMP:20260421T101440
CREATED:20230930T110940Z
LAST-MODIFIED:20230930T110940Z
UID:3115-1695567600-1695571200@kglayout.nadi.my
SUMMARY:IOT: STEM IOT 2.0
DESCRIPTION:
URL:https://kglayout.nadi.my/event/iot-stem-iot-2-0-2/
LOCATION:PEDi Kg Layout Tok Saboh\, PEDi Kg Layout Tok Saboh
CATEGORIES:DEFAULT
END:VEVENT
BEGIN:VEVENT
DTSTART;TZID=UTC:20230924T150000
DTEND;TZID=UTC:20230924T160000
DTSTAMP:20260421T101440
CREATED:20230930T110940Z
LAST-MODIFIED:20230930T110940Z
UID:3155-1695567600-1695571200@kglayout.nadi.my
SUMMARY:IOT: STEM IOT 2.0
DESCRIPTION:
URL:https://kglayout.nadi.my/event/iot-stem-iot-2-0-3/
LOCATION:PEDi Kg Layout Tok Saboh\, PEDi Kg Layout Tok Saboh
CATEGORIES:DEFAULT
END:VEVENT
BEGIN:VEVENT
DTSTART;TZID=UTC:20230924T150000
DTEND;TZID=UTC:20230924T160000
DTSTAMP:20260421T101440
CREATED:20230930T110940Z
LAST-MODIFIED:20230930T110940Z
UID:3305-1695567600-1695571200@kglayout.nadi.my
SUMMARY:IOT: STEM IOT 2.0
DESCRIPTION:
URL:https://kglayout.nadi.my/event/iot-stem-iot-2-0-4/
LOCATION:PEDi Kg Layout Tok Saboh\, PEDi Kg Layout Tok Saboh
CATEGORIES:DEFAULT
END:VEVENT
BEGIN:VEVENT
DTSTART;TZID=UTC:20230924T150000
DTEND;TZID=UTC:20230924T160000
DTSTAMP:20260421T101440
CREATED:20230930T110940Z
LAST-MODIFIED:20230930T110940Z
UID:3407-1695567600-1695571200@kglayout.nadi.my
SUMMARY:IOT: STEM IOT 2.0
DESCRIPTION:
URL:https://kglayout.nadi.my/event/iot-stem-iot-2-0-5/
LOCATION:PEDi Kg Layout Tok Saboh\, PEDi Kg Layout Tok Saboh
CATEGORIES:DEFAULT
END:VEVENT
END:VCALENDAR